Workbook
Name Print_Area_MI: #REF!
Name Print_Area_MI: #REF!

Sheet 索引目录
B2: 资产评估明细表索引目录
B4: 填表说明（填表前请先阅读）
B5: 企业基本情况表 | C5: 资产负债表 | D5: 汇总表 | E5: 分类汇总表
C7: 流动资产 | D7: 货币资金 | E7: 现金 | G7: 流动负债 | I7: 短期借款
E8: 银行存款 | I8: 交易性金融负债
E9: 其他货币资金 | I9: 衍生金融负债
D10: 交易性金融资产 | E10: 股票投资 | I10: 应付票据
D11: 衍生金融资产 | E11: 债券投资 | I11: 应付账款
D12: 应收票据 | E12: 基金投资 | I12: 预收款项
D13: 应收账款 | I13: 合同负债
D14: 应收款项融资 | I14: 职工薪酬
D15: 预付账款 | I15: 应交税费
D16: 其他应收款 | E16: 应收利息 | I16: 应付利息
E17: 应收股利 | I17: 应付股利（应付利润）
E18: 其他应收款 | I18: 其他应付款
D19: 存货 | E19: 材料采购（在途物资） | I19: 持有待售负债
E20: 原材料 | I20: 一年内到期的非流动负债
E21: 在库周转材料 | I21: 其他流动负债
E22: 委托加工物资
E23: 产成品（库存商品）
E24: 在产品（自制半成品） | G24: 非流动负债 | I24: 长期借款
E25: 发出商品 | I25: 应付债券
E26: 在用周转材料 | I26: 租赁负债
E27: 未结算工程 | I27: 长期应付款
E28: 消耗性生物性资产 | I28: 预计负债
D29: 合同资产 | I29: 递延收益
D30: 持有待售资产 | I30: 递延所得税负债
D31: 一年到期非流动资产 | I31: 其他非流动负债
D32: 其他流动资产
D33: 债券投资
C34: 非流动资产 | D34: 其他债券投资
D35: 长期应收款
D36: 长期股权投资
D37: 其他权益工具投资
D38: 其他非流动金融资产
D39: 投资性房地产 | E39: 投资性房地产（成本计量）
E40: 投资性房地产（公允计量）
E41: 投资性地产（成本计量）
E42: 投资性地产(公允计量）
D44: 固定资产 | E44: 房屋建筑物
...

Sheet 填表说明
B1: 资产评估申报表填表说明
B3: 一、基本要求
B4: 1、填表范围：
B5: 对于纳入评估范围的各科目申报表余额要保证与评估基准日被评估单位的资产负债表（或模拟资产负债表）完全一致，如出现差异，请核对所填报明细是否有误。请查看2-分类汇总表中H列，以核对所有科目申报表数据和资产负债表是否一致。
B6: 2、“评估基准日”、“被评估单位(或者产权持有单位)名称”、填表人、填表日期,请在“封面”中填列，各明细表会自动生成。单位名称要与该单位的营业执照所列示的名称完全一致,如经检查各明细表与报表的余额数据完全一致，填表人员需与评估人员沟通无异议后再在打印好的A4纸每页明细表左上角单位名称处加盖单位公章上报。
B7: 3、对于企业资产负债表中没有的会计科目不必填写相应的评估申报表，对应申报表可隐藏但不可删除。
B8: 4、对于各科目评估申报表中“评估价值”一栏(不含本栏)左方的所有空白栏请企业填写齐全。尤其与实物类资产评估作价密切相关的信息必须填报完整，不能出现空白项，该类信息往往包括规格、厂家、单位、数量、产权证号、产权人名称、车辆行驶里程、不良资产实际状态等，此类信息财务人员往往不掌握，需要由资产管理相关部门协助财务人员进行填报。
B9: 5、评估申报表中填列金额单位为“人民币元”，精确到小数点后两位。
B10: 6、评估申报表中涉及发生日期的项目，根据要求请填至月(如建成年月)或日(如出票日期)，填写日期格式为“2017-01”（不能写为2017.1）或 “2017-01-01”（不能填为2017.1.1）。
B11: 7、评估申报表中未指明月利率的项目应填写年利率，计量单位为“%”。若原始资料中为月利率或日利率,请换算为年利率。
B12: 8、评估申报表和各级汇总表之间的数据已建立链接关系，带“汇总”字样的评估申报表不能修改链接、录入数据。
B13: 9、评估申报表对应会计科目的项目超过表中行数时，务必请在申报表中间插入行。注意，不能在第一行和合计行插入行。
... B168: ******

Sheet 企业基本情况
A1: 返回索引目录
A2: 企业基本情况表
A3: ="评估基准日："&#REF!&#REF!&#REF!&#REF!&#REF!&#REF! -> #REF!
A4: 企业填写以下内容：
A5: 被评估单位名称： | B5: 中文 | H5: 法定代表人 | J5: 移动电话
B6: 英文 | H6: 财务负责人 | J6: 固定电话
A7: 法定地址 | F7: 邮政编码 | J7: 手机
A8: 办公地址 | F8: 邮政编码 | H8: 主要填表人 | J8: 固定电话
A9: 联系人办公电话 | C9: 传真 | E9: E-mail | J9: 手机
A10: 经营范围 | H10: 成立日期 | I10: 年 月 日 | J10: 经营期限 | K10: 年 月 日至 年 月 日
A11: 企业股东名称 | H11: 注册资本 | J11: 实收资本
H12: 金额（万元） | I12: 出资比例% | J12: 金额（万元） | K12: 出资比例%
A13: 1 | H13: 0
A14: 2 | H14: 0
A15: 3
A16: 4
A17: 5
A18: 合计
A19: 下属长期投资单位（或异地分支机构）名称 | F19: 地址 | I19: 注册资金% | J19: 持股比例% | K19: 核算方式
A20: 1
A21: 2
A22: 3
A23: 4
A24: 5
A25: 6
A26: 7
A27: 8
A28: 9
A29: 10

Sheet 资产负债表
A1: 返回索引目录
A2: 资产负债表
A3: =企业基本情况!A3 -> #REF!
A4: ="编制单位:"&#REF! -> #REF! | J4: 金额单位：人民币元
A5: 资产 | B5: 序号 | C5: 期初数 | D5: 期末数 | E5: 备注 | F5: 负债及所有者权益 | G5: 序号 | H5: 期初数 | I5: 期末数 | J5: 备注
A6: 流动资产： | B6: 1 | F6: 流动负债： | G6: 37
A7: 货币资金 | B7: 2 | F7: 短期借款 | G7: 38
A8: 交易性金融资产 | B8: 3 | F8: 交易性金融负债 | G8: 39
A9: 衍生金融资产 | B9: 4 | F9: 衍生金融负债 | G9: 40
A10: 应收票据 | B10: 5 | F10: 应付票据 | G10: 41
A11: 应收账款 | B11: 6 | F11: 应付账款 | G11: 42
A12: 应收款项融资 | B12: 7 | F12: 预收款项 | G12: 43
A13: 预付款项 | B13: 8 | F13: 合同负债 | G13: 44 | H13: 0
A14: 其他应收款 | B14: 9 | F14: 应付职工薪酬 | G14: 45 | H14: 0
A15: 存货 | B15: 10 | F15: 应交税费 | G15: 46
A16: 合同资产 | B16: 11 | F16: 其他应付款 | G16: 47
A17: 持有待售资产 | B17: 12 | F17: 持有待售负债 | G17: 48
A18: 一年内到期的非流动资产 | B18: 13 | F18: 一年内到期的非流动负债 | G18: 49
A19: 其他流动资产 | B19: 14 | F19: 其他流动负债 | G19: 50
A22: 流动资产合计 | B22: 15 | C22: =SUM(C7:C19) -> 0 | D22: =SUM(D7:D19) -> 0 | F22: 流动负债合计 | G22: 51 | H22: =SUM(H7:H20) -> 0 | I22: =SUM(I7:I20) -> 0
A23: 非流动资产： | B23: 16 | F23: 非流动负债： | G23: 52
A24: 债权投资 | B24: 17 | F24: 长期借款 | G24: 53
A25: 其他债权投资 | B25: 18 | F25: 应付债券 | G25: 54
A26: 长期应收款 | B26: 19 | F26: 租赁负债 | G26: 55
A27: 长期股权投资 | B27: 20 | F27: 长期应付款 | G27: 56
A28: 其他权益工具投资 | B28: 21 | F28: 预计负债 | G28: 57
A29: 其他非流动金融资产 | B29: 22 | F29: 递延收益 | G29: 58
A30: 投资性房地产 | B30: 23 | F30: 递延所得税负债 | G30: 59
A31: 固定资产 | B31: 24 | F31: 其他非流动负债 | G31: 60
A32: 在建工程 | B32: 25
A33: 生产性生物资产 | B33: 26
A34: 油气资产 | B34: 27 | F34: 非流动负债合计 | G34: 61 | H34: =SUM(H24:H31) -> 0 | I34: =SUM(I24:I31) -> 0
A35: 使用权资产 | B35: 28
A36: 无形资产 | B36: 29 | F36: 负债合计 | G36: 62 | H36: =H22+H34 -> 0 | I36: =I22+I34 -> 0
A37: 开发支出 | B37: 30 | F37: 实收资本（或股本）
A38: 商誉 | B38: 31 | F38: 其他权益工具
A39: 长期待摊费用 | B39: 32 | F39: 其中：优先股
A40: 递延所得税资产 | B40: 33 | F40: 永续债
A41: 其他非流动资产 | B41: 34 | F41: 资本公积
F42: 减：库存股
...

Sheet 表3-1货币资金汇总表
A1: 返回索引目录
A2: 货币资金评估汇总表
A4: =#REF! -> #REF!
A6: =#REF! -> #REF!
A7: 编号 | B7: 科目名称 | C7: 账面价值 | D7: 评估价值 | E7: 增减值 | F7: 增值率% | G7: 备注
A8: 3-1-1 | B8: 现金 | C8: ='3-1-1现金'!F31 -> 0 | D8: ='3-1-1现金'!G31 -> 0 | E8: =D8-C8 -> 0 | F8: =IF(C8=0,"",E8/C8*100)
A9: 3-1-2 | B9: 银行存款 | C9: ='3-1-2银行存款'!J31 -> 0 | D9: ='3-1-2银行存款'!K31 -> 0 | E9: =D9-C9 -> 0 | F9: =IF(C9=0,"",E9/C9*100)
A10: 3-1-3 | B10: 其他货币资金 | C10: ='3-1-3其他货币资金'!L31 -> 0 | D10: ='3-1-3其他货币资金'!M31 -> 0 | E10: =D10-C10 -> 0 | F10: =IF(C10=0,"",E10/C10*100)
H13: 0
H14: 0
A31: 合 计 | C31: =SUM(C8:C30) -> 0 | D31: =SUM(D8:D30) -> 0 | E31: =D31-C31 -> 0 | F31: =IF(C31=0,"",E31/C31*100)

Sheet 3-1-1现金
A1: 返回索引目录
A2: ="货币资金—现金评估"&#REF! -> #REF!
A4: ='表3-1货币资金汇总表'!A4:G4 -> #REF!
A6: ='表3-1货币资金汇总表'!A6 -> #REF!
A7: 序号 | B7: 存放部门（单位) | C7: 币种 | D7: 外币账面金额 | E7: 评估基准日汇率 | F7: 账面价值 | G7: 评估价值 | H7: 增减值 | I7: 增值率% | J7: 备注 | K7: 核算单位
A8: 1 | H8: =IF(F8=0,"",G8-F8) | I8: =IF(F8=0,"",H8/F8*100)
H9: =IF(F9=0,"",G9-F9) | I9: =IF(F9=0,"",H9/F9*100)
F10: 0 | H10: =IF(F10=0,"",G10-F10) | I10: =IF(F10=0,"",H10/F10*100)
H11: =IF(F11=0,"",G11-F11) | I11: =IF(F11=0,"",H11/F11*100)
H12: =IF(F12=0,"",G12-F12) | I12: =IF(F12=0,"",H12/F12*100)
H13: 0 | I13: =IF(F13=0,"",H13/F13*100)
H14: 0 | I14: =IF(F14=0,"",H14/F14*100)
H15: =IF(F15=0,"",G15-F15) | I15: =IF(F15=0,"",H15/F15*100)
H16: =IF(F16=0,"",G16-F16) | I16: =IF(F16=0,"",H16/F16*100)
H17: =IF(F17=0,"",G17-F17) | I17: =IF(F17=0,"",H17/F17*100)
H18: =IF(F18=0,"",G18-F18) | I18: =IF(F18=0,"",H18/F18*100)
H19: =IF(F19=0,"",G19-F19) | I19: =IF(F19=0,"",H19/F19*100)
H20: =IF(F20=0,"",G20-F20) | I20: =IF(F20=0,"",H20/F20*100)
H21: =IF(F21=0,"",G21-F21) | I21: =IF(F21=0,"",H21/F21*100)
H22: =IF(F22=0,"",G22-F22) | I22: =IF(F22=0,"",H22/F22*100)
H25: =IF(F25=0,"",G25-F25) | I25: =IF(F25=0,"",H25/F25*100)
H26: =IF(F26=0,"",G26-F26) | I26: =IF(F26=0,"",H26/F26*100)
H27: =IF(F27=0,"",G27-F27) | I27: =IF(F27=0,"",H27/F27*100)
H28: =IF(F28=0,"",G28-F28) | I28: =IF(F28=0,"",H28/F28*100)
... H30: =IF(F30=0,"",G30-F30) | I30: =IF(F30=0,"",H30/F30*100)
A31: 合 计 | F31: =SUM(F8:F30) -> 0 | G31: =SUM(G8:G30) -> 0 | H31: =IF(F31=0,"",G31-F31) | I31: =IF(F31=0,"",H31/F31*100)
A32: =#REF!&#REF! -> #REF! | G32: ="评估人员："&#REF! -> #REF!
A33: =#REF!&#REF!&#REF!&#REF!&#REF!&#REF!&#REF! -> #REF!

Sheet 3-1-2银行存款
A1: 返回索引目录
A2: ="货币资金—银行存款评估"&#REF! -> #REF!
A4: ='3-1-1现金'!A4:J4 -> #REF!
A6: ='3-1-1现金'!A6 -> #REF!
A7: 序号 | B7: 开户银行 | C7: 账号 | D7: 币种 | E7: 外币账面金额 | F7: 评估基准日汇率 | G7: 银行对账单户名 | H7: 调节表调节后余额 | I7: 是否质押冻结 | J7: 账面价值 | K7: 评估价值 | L7: 增减值 | M7: 增值率% | N7: 备注 | O7: 核算单位
L8: =IF(J8=0,"",K8-J8) | M8: =IF(J8=0,"",L8/J8*100)
L9: =IF(J9=0,"",K9-J9) | M9: =IF(J9=0,"",L9/J9*100)
L10: =IF(J10=0,"",K10-J10) | M10: =IF(J10=0,"",L10/J10*100)
L11: =IF(J11=0,"",K11-J11) | M11: =IF(J11=0,"",L11/J11*100)
L12: =IF(J12=0,"",K12-J12) | M12: =IF(J12=0,"",L12/J12*100)
H13: 0 | L13: =IF(J13=0,"",K13-J13) | M13: =IF(J13=0,"",L13/J13*100)
H14: 0 | L14: =IF(J14=0,"",K14-J14) | M14: =IF(J14=0,"",L14/J14*100)
L15: =IF(J15=0,"",K15-J15) | M15: =IF(J15=0,"",L15/J15*100)
L16: =IF(J16=0,"",K16-J16) | M16: =IF(J16=0,"",L16/J16*100)
L17: =IF(J17=0,"",K17-J17) | M17: =IF(J17=0,"",L17/J17*100)
L18: =IF(J18=0,"",K18-J18) | M18: =IF(J18=0,"",L18/J18*100)
L19: =IF(J19=0,"",K19-J19) | M19: =IF(J19=0,"",L19/J19*100)
L20: =IF(J20=0,"",K20-J20) | M20: =IF(J20=0,"",L20/J20*100)
L21: =IF(J21=0,"",K21-J21) | M21: =IF(J21=0,"",L21/J21*100)
L22: =IF(J22=0,"",K22-J22) | M22: =IF(J22=0,"",L22/J22*100)
L23: =IF(J23=0,"",K23-J23) | M23: =IF(J23=0,"",L23/J23*100)
L24: =IF(J24=0,"",K24-J24) | M24: =IF(J24=0,"",L24/J24*100)
L25: =IF(J25=0,"",K25-J25) | M25: =IF(J25=0,"",L25/J25*100)
L26: =IF(J26=0,"",K26-J26) | M26: =IF(J26=0,"",L26/J26*100)
... L30: =IF(J30=0,"",K30-J30) | M30: =IF(J30=0,"",L30/J30*100)
A31: 合 计 | J31: =SUM(J8:J30) -> 0 | K31: =SUM(K8:K30) -> 0 | L31: =IF(J31=0,"",K31-J31) | M31: =IF(J31=0,"",L31/J31*100)
A32: ='3-1-1现金'!A32:D32 -> #REF! | K32: ='3-1-1现金'!G32 -> #REF!
A33: ='3-1-1现金'!A33:D33 -> #REF!

Sheet 3-1-3其他货币资金
A1: 返回索引目录
A2: ="货币资金—其他货币资金评估"&#REF! -> #REF!
A4: ='3-1-2银行存款'!A4:N4 -> #REF!
A6: ='3-1-2银行存款'!A6 -> #REF!
A7: 序号 | B7: 名称及内容 | C7: 用途 | D7: 币种 | E7: 外币账面金额 | F7: 评估基准日汇率 | G7: 开户银行 | H7: 账号 | I7: 对账单户名 | J7: 调节表调节后余额 | K7: 是否质押冻结 | L7: 账面价值 | M7: 评估价值 | N7: 增减值 | O7: 增值率% | P7: 备注 | Q7: 核算单位
N8: =IF(L8=0,"",M8-L8) | O8: =IF(L8=0,"",N8/L8*100)
N9: =IF(L9=0,"",M9-L9) | O9: =IF(L9=0,"",N9/L9*100)
N10: =IF(L10=0,"",M10-L10) | O10: =IF(L10=0,"",N10/L10*100)
N11: =IF(L11=0,"",M11-L11) | O11: =IF(L11=0,"",N11/L11*100)
N12: =IF(L12=0,"",M12-L12) | O12: =IF(L12=0,"",N12/L12*100)
H13: 0 | N13: =IF(L13=0,"",M13-L13) | O13: =IF(L13=0,"",N13/L13*100)
H14: 0 | N14: =IF(L14=0,"",M14-L14) | O14: =IF(L14=0,"",N14/L14*100)
N15: =IF(L15=0,"",M15-L15) | O15: =IF(L15=0,"",N15/L15*100)
N16: =IF(L16=0,"",M16-L16) | O16: =IF(L16=0,"",N16/L16*100)
N17: =IF(L17=0,"",M17-L17) | O17: =IF(L17=0,"",N17/L17*100)
N18: =IF(L18=0,"",M18-L18) | O18: =IF(L18=0,"",N18/L18*100)
N19: =IF(L19=0,"",M19-L19) | O19: =IF(L19=0,"",N19/L19*100)
N20: =IF(L20=0,"",M20-L20) | O20: =IF(L20=0,"",N20/L20*100)
N21: =IF(L21=0,"",M21-L21) | O21: =IF(L21=0,"",N21/L21*100)
N22: =IF(L22=0,"",M22-L22) | O22: =IF(L22=0,"",N22/L22*100)
N23: =IF(L23=0,"",M23-L23) | O23: =IF(L23=0,"",N23/L23*100)
N24: =IF(L24=0,"",M24-L24) | O24: =IF(L24=0,"",N24/L24*100)
N25: =IF(L25=0,"",M25-L25) | O25: =IF(L25=0,"",N25/L25*100)
N26: =IF(L26=0,"",M26-L26) | O26: =IF(L26=0,"",N26/L26*100)
... N30: =IF(L30=0,"",M30-L30) | O30: =IF(L30=0,"",N30/L30*100)
A31: 合 计 | L31: =SUM(L8:L30) -> 0 | M31: =SUM(M8:M30) -> 0 | N31: =IF(L31=0,"",M31-L31) | O31: =IF(L31=0,"",N31/L31*100)
A32: ='3-1-2银行存款'!A32 -> #REF! | M32: ='3-1-2银行存款'!K32 -> #REF!
A33: ='3-1-2银行存款'!A33 -> #REF!

Sheet 3-2交易性金融资产汇总
A1: 返回索引目录
A2: 交易性金融资产评估汇总表
A3: =#REF! -> #REF!
A5: =#REF! -> #REF!
A6: 编号 | B6: 科目名称 | C6: 账面价值 | D6: 评估价值 | E6: 增减值 | F6: 增值率%
A7: 3-2-1 | B7: 交易性金融资产-股票投资 | C7: ='3-2-1交易性-股票'!H31 -> 0 | D7: ='3-2-1交易性-股票'!J31 -> 0 | E7: =D7-C7 -> 0 | F7: =IF(C7=0,"",E7/C7*100)
A8: 3-2-2 | B8: 交易性金融资产-债券投资 | C8: ='3-2-2交易性-债券'!H29 -> 0 | D8: ='3-2-2交易性-债券'!I29 -> 0 | E8: =D8-C8 -> 0 | F8: =IF(C8=0,"",E8/C8*100)
A9: 3-2-3 | B9: 交易性金融资产-基金投资 | C9: ='3-2-3交易性-基金'!H31 -> 0 | D9: ='3-2-3交易性-基金'!J31 -> 0 | E9: =D9-C9 -> 0 | F9: =IF(C9=0,"",E9/C9*100)
H13: 0
H14: 0
A32: 合 计 | C32: =SUM(C7:C31) -> 0 | D32: =SUM(D7:D31) -> 0 | E32: =D32-C32 -> 0 | F32: =IF(C32=0,"",E32/C32*100)

Sheet 3-2-1交易性-股票
A1: 返回索引目录
A2: ="交易性金融资产-股票投资评估"&#REF! -> #REF!
A4: ='3-2交易性金融资产汇总'!A3:F3 -> #REF!
A6: ='3-2交易性金融资产汇总'!A5 -> #REF!
A7: 序号 | B7: 被投资单位名称 | C7: 股票名称 | D7: 股票性质 | E7: 投资日期 | F7: 持股数量 | G7: 成 本 | H7: 账面价值 | I7: 基准日收盘价元/股 | J7: 评估价值 | K7: 增减值 | L7: 增值率% | M7: 备注 | N7: 核算单位
A8: 1 | E8: 43830 | J8: =H8 -> 0 | K8: =IF(H8=0,"",J8-H8) | L8: =IF(H8=0,"",K8/H8*100)
K9: =IF(H9=0,"",J9-H9) | L9: =IF(H9=0,"",K9/H9*100)
K10: =IF(H10=0,"",J10-H10) | L10: =IF(H10=0,"",K10/H10*100)
K11: =IF(H11=0,"",J11-H11) | L11: =IF(H11=0,"",K11/H11*100)
K12: =IF(H12=0,"",J12-H12) | L12: =IF(H12=0,"",K12/H12*100)
H13: 0 | K13: =IF(H13=0,"",J13-H13) | L13: =IF(H13=0,"",K13/H13*100)
H14: 0 | K14: =IF(H14=0,"",J14-H14) | L14: =IF(H14=0,"",K14/H14*100)
K15: =IF(H15=0,"",J15-H15) | L15: =IF(H15=0,"",K15/H15*100)
K16: =IF(H16=0,"",J16-H16) | L16: =IF(H16=0,"",K16/H16*100)
K17: =IF(H17=0,"",J17-H17) | L17: =IF(H17=0,"",K17/H17*100)
K18: =IF(H18=0,"",J18-H18) | L18: =IF(H18=0,"",K18/H18*100)
K19: =IF(H19=0,"",J19-H19) | L19: =IF(H19=0,"",K19/H19*100)
K20: =IF(H20=0,"",J20-H20) | L20: =IF(H20=0,"",K20/H20*100)
K21: =IF(H21=0,"",J21-H21) | L21: =IF(H21=0,"",K21/H21*100)
K22: =IF(H22=0,"",J22-H22) | L22: =IF(H22=0,"",K22/H22*100)
K23: =IF(H23=0,"",J23-H23) | L23: =IF(H23=0,"",K23/H23*100)
K24: =IF(H24=0,"",J24-H24) | L24: =IF(H24=0,"",K24/H24*100)
K25: =IF(H25=0,"",J25-H25) | L25: =IF(H25=0,"",K25/H25*100)
K26: =IF(H26=0,"",J26-H26) | L26: =IF(H26=0,"",K26/H26*100)
... K30: =IF(H30=0,"",J30-H30) | L30: =IF(H30=0,"",K30/H30*100)
A31: 合 计 | H31: =SUM(H8:H30) -> 0 | J31: =SUM(J8:J30) -> 0 | K31: =IF(H31=0,"",J31-H31) | L31: =IF(H31=0,"",K31/H31*100)
A32: ='3-1-3其他货币资金'!A32 -> #REF! | J32: ='3-1-3其他货币资金'!M32 -> #REF!
A33: ='3-1-3其他货币资金'!A33 -> #REF!

Sheet 3-2-2交易性-债券
A1: 返回索引目录
A2: ="交易性金融资产-债券投资评估"&#REF! -> #REF!
A4: ='3-2-1交易性-股票'!A4:M4 -> #REF!
A6: ='3-2-1交易性-股票'!A6 -> #REF!
A7: 序号 | B7: 被投资单位名称 | C7: 债券种类 | D7: 发行日期 | E7: 投资日期 | F7: 票面利率% | G7: 成本 | H7: 账面价值 | I7: 评估价值 | J7: 增减值 | K7: 增值率% | L7: 备注 | M7: 核算单位
A8: 1 | D8: 43830 | E8: 43830 | I8: =H8 -> 0 | J8: =IF(H8=0,"",I8-H8) | K8: =IF(H8=0,"",J8/H8*100)
J9: =IF(H9=0,"",I9-H9) | K9: =IF(H9=0,"",J9/H9*100)
J10: =IF(H10=0,"",I10-H10) | K10: =IF(H10=0,"",J10/H10*100)
J11: =IF(H11=0,"",I11-H11) | K11: =IF(H11=0,"",J11/H11*100)
J12: =IF(H12=0,"",I12-H12) | K12: =IF(H12=0,"",J12/H12*100)
H13: 0 | J13: =IF(H13=0,"",I13-H13) | K13: =IF(H13=0,"",J13/H13*100)
H14: 0 | J14: =IF(H14=0,"",I14-H14) | K14: =IF(H14=0,"",J14/H14*100)
J15: =IF(H15=0,"",I15-H15) | K15: =IF(H15=0,"",J15/H15*100)
J16: =IF(H16=0,"",I16-H16) | K16: =IF(H16=0,"",J16/H16*100)
J17: =IF(H17=0,"",I17-H17) | K17: =IF(H17=0,"",J17/H17*100)
J18: =IF(H18=0,"",I18-H18) | K18: =IF(H18=0,"",J18/H18*100)
J19: =IF(H19=0,"",I19-H19) | K19: =IF(H19=0,"",J19/H19*100)
J20: =IF(H20=0,"",I20-H20) | K20: =IF(H20=0,"",J20/H20*100)
J21: =IF(H21=0,"",I21-H21) | K21: =IF(H21=0,"",J21/H21*100)
J22: =IF(H22=0,"",I22-H22) | K22: =IF(H22=0,"",J22/H22*100)
J23: =IF(H23=0,"",I23-H23) | K23: =IF(H23=0,"",J23/H23*100)
J24: =IF(H24=0,"",I24-H24) | K24: =IF(H24=0,"",J24/H24*100)
J25: =IF(H25=0,"",I25-H25) | K25: =IF(H25=0,"",J25/H25*100)
J26: =IF(H26=0,"",I26-H26) | K26: =IF(H26=0,"",J26/H26*100)
... J28: =IF(H28=0,"",I28-H28) | K28: =IF(H28=0,"",J28/H28*100)
A29: 合 计 | H29: =SUM(H8:H28) -> 0 | I29: =SUM(I8:I28) -> 0 | J29: =IF(H29=0,"",I29-H29) | K29: =IF(H29=0,"",J29/H29*100)
A30: ='3-2-1交易性-股票'!A32 -> #REF! | I30: ='3-2-1交易性-股票'!J32 -> #REF!
A31: ='3-2-1交易性-股票'!A33 -> #REF!

Sheet 3-2-3交易性-基金
A1: 返回索引目录
A2: ="交易性金融资产-基金投资评估"&#REF! -> #REF!
A4: ='3-2-2交易性-债券'!A4:K4 -> #REF!
A6: ='3-2-2交易性-债券'!A6 -> #REF!
A7: 序号 | B7: 基金发行单位 | C7: 基金名称 | D7: 基金代码 | E7: 基金类型 | F7: 投资日期 | G7: 成本 | H7: 账面价值 | I7: 基准日净值/份 | J7: 评估价值 | K7: 增减值 | L7: 增值率% | M7: 备注 | N7: 核算单位
A8: 1 | F8: 43800 | J8: =H8 -> 0 | K8: =IF(H8=0,"",J8-H8) | L8: =IF(H8=0,"",K8/H8*100)
K9: =IF(H9=0,"",J9-H9) | L9: =IF(H9=0,"",K9/H9*100)
K10: =IF(H10=0,"",J10-H10) | L10: =IF(H10=0,"",K10/H10*100)
K11: =IF(H11=0,"",J11-H11) | L11: =IF(H11=0,"",K11/H11*100)
K12: =IF(H12=0,"",J12-H12) | L12: =IF(H12=0,"",K12/H12*100)
H13: 0 | K13: =IF(H13=0,"",J13-H13) | L13: =IF(H13=0,"",K13/H13*100)
H14: 0 | K14: =IF(H14=0,"",J14-H14) | L14: =IF(H14=0,"",K14/H14*100)
K15: =IF(H15=0,"",J15-H15) | L15: =IF(H15=0,"",K15/H15*100)
K16: =IF(H16=0,"",J16-H16) | L16: =IF(H16=0,"",K16/H16*100)
K17: =IF(H17=0,"",J17-H17) | L17: =IF(H17=0,"",K17/H17*100)
K18: =IF(H18=0,"",J18-H18) | L18: =IF(H18=0,"",K18/H18*100)
K19: =IF(H19=0,"",J19-H19) | L19: =IF(H19=0,"",K19/H19*100)
K20: =IF(H20=0,"",J20-H20) | L20: =IF(H20=0,"",K20/H20*100)
K21: =IF(H21=0,"",J21-H21) | L21: =IF(H21=0,"",K21/H21*100)
K22: =IF(H22=0,"",J22-H22) | L22: =IF(H22=0,"",K22/H22*100)
K23: =IF(H23=0,"",J23-H23) | L23: =IF(H23=0,"",K23/H23*100)
K24: =IF(H24=0,"",J24-H24) | L24: =IF(H24=0,"",K24/H24*100)
K25: =IF(H25=0,"",J25-H25) | L25: =IF(H25=0,"",K25/H25*100)
K26: =IF(H26=0,"",J26-H26) | L26: =IF(H26=0,"",K26/H26*100)
... K30: =IF(H30=0,"",J30-H30) | L30: =IF(H30=0,"",K30/H30*100)
A31: 合 计 | H31: =SUM(H8:H30) -> 0 | J31: =SUM(J8:J30) -> 0 | K31: =IF(H31=0,"",J31-H31) | L31: =IF(H31=0,"",K31/H31*100)
A32: ='3-2-2交易性-债券'!A30 -> #REF! | J32: ='3-2-2交易性-债券'!I30 -> #REF!
A33: ='3-2-2交易性-债券'!A31 -> #REF!

Sheet 3-3衍生金融资产
A1: 返回索引目录
A2: ="衍生金融资产评估"&#REF! -> #REF!
A4: ='3-2-2交易性-债券'!A4:K4 -> #REF!
A6: ='3-2-2交易性-债券'!A6 -> #REF!
A7: 序号 | B7: 工具种类 | C7: 合同名称 | D7: 合同号 | E7: 合同对方 | F7: 合同日期 | G7: 初始计量 | H7: 账面价值 | I7: 评估价值 | J7: 增减值 | K7: 增值率% | L7: 备注 | M7: 核算单位
A8: 1 | F8: 43800 | J8: =IF(H8=0,"",I8-H8) | K8: =IF(H8=0,"",J8/H8*100)
J9: =IF(H9=0,"",I9-H9) | K9: =IF(H9=0,"",J9/H9*100)
J10: =IF(H10=0,"",I10-H10) | K10: =IF(H10=0,"",J10/H10*100)
J11: =IF(H11=0,"",I11-H11) | K11: =IF(H11=0,"",J11/H11*100)
J12: =IF(H12=0,"",I12-H12) | K12: =IF(H12=0,"",J12/H12*100)
H13: 0 | J13: =IF(H13=0,"",I13-H13) | K13: =IF(H13=0,"",J13/H13*100)
H14: 0 | J14: =IF(H14=0,"",I14-H14) | K14: =IF(H14=0,"",J14/H14*100)
J15: =IF(H15=0,"",I15-H15) | K15: =IF(H15=0,"",J15/H15*100)
J16: =IF(H16=0,"",I16-H16) | K16: =IF(H16=0,"",J16/H16*100)
J17: =IF(H17=0,"",I17-H17) | K17: =IF(H17=0,"",J17/H17*100)
J18: =IF(H18=0,"",I18-H18) | K18: =IF(H18=0,"",J18/H18*100)
J19: =IF(H19=0,"",I19-H19) | K19: =IF(H19=0,"",J19/H19*100)
J20: =IF(H20=0,"",I20-H20) | K20: =IF(H20=0,"",J20/H20*100)
J21: =IF(H21=0,"",I21-H21) | K21: =IF(H21=0,"",J21/H21*100)
J22: =IF(H22=0,"",I22-H22) | K22: =IF(H22=0,"",J22/H22*100)
J23: =IF(H23=0,"",I23-H23) | K23: =IF(H23=0,"",J23/H23*100)
J24: =IF(H24=0,"",I24-H24) | K24: =IF(H24=0,"",J24/H24*100)
J25: =IF(H25=0,"",I25-H25) | K25: =IF(H25=0,"",J25/H25*100)
J26: =IF(H26=0,"",I26-H26) | K26: =IF(H26=0,"",J26/H26*100)
... J30: =IF(H30=0,"",I30-H30) | K30: =IF(H30=0,"",J30/H30*100)
A31: 合 计 | H31: =SUM(H8:H30) -> 0 | I31: =SUM(I8:I30) -> 0 | J31: =IF(H31=0,"",I31-H31) | K31: =IF(H31=0,"",J31/H31*100)
A32: ='3-2-2交易性-债券'!A30 -> #REF! | I32: ='3-2-2交易性-债券'!I30 -> #REF!
A33: ='3-2-2交易性-债券'!A31 -> #REF!

Sheet 3-4应收票据
A1: 返回索引目录
A2: ="应收票据评估"&#REF! -> #REF!
A4: ='3-2-3交易性-基金'!A4:M4 -> #REF!
A6: ='3-2-3交易性-基金'!A6 -> #REF!
A7: 序号 | B7: 户名（结算对象) | C7: 出票日期 | D7: 到期日期 | E7: 票面利率% | F7: 票据种类 | G7: 票据号 | H7: 是否为关联方 | I7: 基准日后是否贴现 | J7: 是否质押 | K7: 是否背书 | L7: 贴现是否附连带责任 | M7: 背书是否附连带责任 | N7: 合同号 | O7: 账面价值 | P7: 评估价值 | Q7: 增减值 | R7: 增值率% | S7: 备注 | T7: 核算单位
A8: 1 | C8: 43466 | D8: 43646 | Q8: =IF(O8=0,"",P8-O8) | R8: =IF(O8=0,"",Q8/O8*100)
Q9: =IF(O9=0,"",P9-O9) | R9: =IF(O9=0,"",Q9/O9*100)
Q10: =IF(O10=0,"",P10-O10) | R10: =IF(O10=0,"",Q10/O10*100)
Q11: =IF(O11=0,"",P11-O11) | R11: =IF(O11=0,"",Q11/O11*100)
Q12: =IF(O12=0,"",P12-O12) | R12: =IF(O12=0,"",Q12/O12*100)
H13: 0 | Q13: =IF(O13=0,"",P13-O13) | R13: =IF(O13=0,"",Q13/O13*100)
H14: 0 | Q14: =IF(O14=0,"",P14-O14) | R14: =IF(O14=0,"",Q14/O14*100)
Q15: =IF(O15=0,"",P15-O15) | R15: =IF(O15=0,"",Q15/O15*100)
Q16: =IF(O16=0,"",P16-O16) | R16: =IF(O16=0,"",Q16/O16*100)
Q17: =IF(O17=0,"",P17-O17) | R17: =IF(O17=0,"",Q17/O17*100)
Q18: =IF(O18=0,"",P18-O18) | R18: =IF(O18=0,"",Q18/O18*100)
Q19: =IF(O19=0,"",P19-O19) | R19: =IF(O19=0,"",Q19/O19*100)
Q20: =IF(O20=0,"",P20-O20) | R20: =IF(O20=0,"",Q20/O20*100)
Q21: =IF(O21=0,"",P21-O21) | R21: =IF(O21=0,"",Q21/O21*100)
Q22: =IF(O22=0,"",P22-O22) | R22: =IF(O22=0,"",Q22/O22*100)
Q23: =IF(O23=0,"",P23-O23) | R23: =IF(O23=0,"",Q23/O23*100)
Q24: =IF(O24=0,"",P24-O24) | R24: =IF(O24=0,"",Q24/O24*100)
Q25: =IF(O25=0,"",P25-O25) | R25: =IF(O25=0,"",Q25/O25*100)
Q26: =IF(O26=0,"",P26-O26) | R26: =IF(O26=0,"",Q26/O26*100)
... Q28: =IF(O28=0,"",P28-O28) | R28: =IF(O28=0,"",Q28/O28*100)
A29: 合 计 | O29: =SUM(O8:O28) -> 0 | P29: =SUM(P8:P28) -> 0 | Q29: =IF(O29=0,"",P29-O29) | R29: =IF(O29=0,"",Q29/O29*100)
A30: 减：应收票据坏账准备 | R30: =IF(O30=0,"",Q30/O30*100)
A31: 合 计 | O31: =O29-O30 -> 0 | P31: =P29-P30 -> 0 | Q31: =IF(O31=0,"",P31-O31) | R31: =IF(O31=0,"",Q31/O31*100)
A32: ='3-2-3交易性-基金'!A32 -> #REF! | P32: ='3-2-3交易性-基金'!J32 -> #REF!
A33: ='3-2-3交易性-基金'!A33 -> #REF!

Sheet 3-5应收账款
A1: 返回索引目录
A2: ="应收账款评估"&#REF! -> #REF!
A4: ='3-4应收票据'!A4:S4 -> #REF!
B5: =#REF!&#REF!&#REF!&#REF!&#REF!&#REF! -> #REF!
A6: ='3-4应收票据'!A6 -> #REF! | S6: 放入备注中说明
A7: 序号 | B7: 欠款单位名称（结算对象) | C7: 业务内容 | D7: 发生日期 | E7: 账龄 | F7: 1年以内金额 | G7: 1~2年金额 | H7: 2~3年金额 | I7: 3~4年金额 | J7: 4~5年金额 | K7: 5年以上金额 | L7: 账龄总数与账面价值差异(应等于0) | M7: 账面价值 | N7: 评估价值 | O7: 增减值 | P7: 增值率% | Q7: 备注 | R7: 核算单位 | S7: 是否为关联方 | T7: 是否仍有业务往来 | U7: 长期挂账原因 | V7: 对方单位是否破产/注销
A8: 1 | D8: 43800 | E8: =IF(D8=0,"",(IF(($B$5-D8)<366,"1年以内",IF(($B$5-D8)<731,"1-2年",IF(($B$5-D8)<1096,"2-3年",IF(($B$5-D8)<1461,"3-4年",IF(($B$5-D8)<1826,"4-5年","5年以上"))))))) -> #REF! | L8: =SUM(F8:K8)-M8 -> 0 | N8: =M8 -> 0 | O8: =IF(M8=0,"",N8-M8) | P8: =IF(M8=0,"",O8/(M8)*100)
E9: =IF(D9=0,"",(IF(($B$5-D9)<366,"1年以内",IF(($B$5-D9)<731,"1-2年",IF(($B$5-D9)<1096,"2-3年",IF(($B$5-D9)<1461,"3-4年",IF(($B$5-D9)<1826,"4-5年","5年以上"))))))) | L9: =SUM(F9:K9)-M9 -> 0 | O9: =IF(M9=0,"",N9-M9) | P9: =IF(M9=0,"",O9/(M9)*100)
E10: =IF(D10=0,"",(IF(($B$5-D10)<366,"1年以内",IF(($B$5-D10)<731,"1-2年",IF(($B$5-D10)<1096,"2-3年",IF(($B$5-D10)<1461,"3-4年",IF(($B$5-D10)<1826,"4-5年","5年以上"))))))) | L10: =SUM(F10:K10)-M10 -> 0 | O10: =IF(M10=0,"",N10-M10) | P10: =IF(M10=0,"",O10/(M10)*100)
E11: =IF(D11=0,"",(IF(($B$5-D11)<366,"1年以内",IF(($B$5-D11)<731,"1-2年",IF(($B$5-D11)<1096,"2-3年",IF(($B$5-D11)<1461,"3-4年",IF(($B$5-D11)<1826,"4-5年","5年以上"))))))) | L11: =SUM(F11:K11)-M11 -> 0 | O11: =IF(M11=0,"",N11-M11) | P11: =IF(M11=0,"",O11/(M11)*100)
E12: =IF(D12=0,"",(IF(($B$5-D12)<366,"1年以内",IF(($B$5-D12)<731,"1-2年",IF(($B$5-D12)<1096,"2-3年",IF(($B$5-D12)<1461,"3-4年",IF(($B$5-D12)<1826,"4-5年","5年以上"))))))) | L12: =SUM(F12:K12)-M12 -> 0 | O12: =IF(M12=0,"",N12-M12) | P12: =IF(M12=0,"",O12/(M12)*100)
E13: =IF(D13=0,"",(IF(($B$5-D13)<366,"1年以内",IF(($B$5-D13)<731,"1-2年",IF(($B$5-D13)<1096,"2-3年",IF(($B$5-D13)<1461,"3-4年",IF(($B$5-D13)<1826,"4-5年","5年以上"))))))) | L13: =SUM(F13:K13)-M13 -> 0 | O13: =IF(M13=0,"",N13-M13) | P13: =IF(M13=0,"",O13/(M13)*100)
E14: =IF(D14=0,"",(IF(($B$5-D14)<366,"1年以内",IF(($B$5-D14)<731,"1-2年",IF(($B$5-D14)<1096,"2-3年",IF(($B$5-D14)<1461,"3-4年",IF(($B$5-D14)<1826,"4-5年","5年以上"))))))) | L14: =SUM(F14:K14)-M14 -> 0 | O14: =IF(M14=0,"",N14-M14) | P14: =IF(M14=0,"",O14/(M14)*100)
E15: =IF(D15=0,"",(IF(($B$5-D15)<366,"1年以内",IF(($B$5-D15)<731,"1-2年",IF(($B$5-D15)<1096,"2-3年",IF(($B$5-D15)<1461,"3-4年",IF(($B$5-D15)<1826,"4-5年","5年以上"))))))) | L15: =SUM(F15:K15)-M15 -> 0 | O15: =IF(M15=0,"",N15-M15) | P15: =IF(M15=0,"",O15/(M15)*100)
E16: =IF(D16=0,"",(IF(($B$5-D16)<366,"1年以内",IF(($B$5-D16)<731,"1-2年",IF(($B$5-D16)<1096,"2-3年",IF(($B$5-D16)<1461,"3-4年",IF(($B$5-D16)<1826,"4-5年","5年以上"))))))) | L16: =SUM(F16:K16)-M16 -> 0 | O16: =IF(M16=0,"",N16-M16) | P16: =IF(M16=0,"",O16/(M16)*100)
E17: =IF(D17=0,"",(IF(($B$5-D17)<366,"1年以内",IF(($B$5-D17)<731,"1-2年",IF(($B$5-D17)<1096,"2-3年",IF(($B$5-D17)<1461,"3-4年",IF(($B$5-D17)<1826,"4-5年","5年以上"))))))) | L17: =SUM(F17:K17)-M17 -> 0 | O17: =IF(M17=0,"",N17-M17) | P17: =IF(M17=0,"",O17/(M17)*100)
E18: =IF(D18=0,"",(IF(($B$5-D18)<366,"1年以内",IF(($B$5-D18)<731,"1-2年",IF(($B$5-D18)<1096,"2-3年",IF(($B$5-D18)<1461,"3-4年",IF(($B$5-D18)<1826,"4-5年","5年以上"))))))) | L18: =SUM(F18:K18)-M18 -> 0 | O18: =IF(M18=0,"",N18-M18) | P18: =IF(M18=0,"",O18/(M18)*100)
E19: =IF(D19=0,"",(IF(($B$5-D19)<366,"1年以内",IF(($B$5-D19)<731,"1-2年",IF(($B$5-D19)<1096,"2-3年",IF(($B$5-D19)<1461,"3-4年",IF(($B$5-D19)<1826,"4-5年","5年以上"))))))) | L19: =SUM(F19:K19)-M19 -> 0 | O19: =IF(M19=0,"",N19-M19) | P19: =IF(M19=0,"",O19/(M19)*100)
E20: =IF(D20=0,"",(IF(($B$5-D20)<366,"1年以内",IF(($B$5-D20)<731,"1-2年",IF(($B$5-D20)<1096,"2-3年",IF(($B$5-D20)<1461,"3-4年",IF(($B$5-D20)<1826,"4-5年","5年以上"))))))) | L20: =SUM(F20:K20)-M20 -> 0 | O20: =IF(M20=0,"",N20-M20) | P20: =IF(M20=0,"",O20/(M20)*100)
... E26: =IF(D26=0,"",(IF(($B$5-D26)<366,"1年以内",IF(($B$5-D26)<731,"1-2年",IF(($B$5-D26)<1096,"2-3年",IF(($B$5-D26)<1461,"3-4年",IF(($B$5-D26)<1826,"4-5年","5年以上"))))))) | L26: =SUM(F26:K26)-M26 -> 0 | O26: =IF(M26=0,"",N26-M26) | P26: =IF(M26=0,"",O26/(M26)*100)
A27: 合 计 | L27: =SUM(F27:K27)-M27 -> 0 | M27: =SUM(M8:M26) -> 0 | N27: =SUM(N8:N26) -> 0 | O27: =IF(M27=0,"",N27-M27) | P27: =IF(M27=0,"",O27/(M27)*100)
A28: 减：应收账款坏账准备 | L28: =SUM(F28:K28)-M28 -> 0
A29: 减：评估风险损失 | N29: =M28 -> 0
A30: 合 计 | M30: =M27-M28 -> 0 | N30: =N27-N29 -> 0 | O30: =IF(M30=0,"",N30-M30) | P30: =IF(M30=0,"",O30/(M30)*100)
A31: ='3-4应收票据'!A32 -> #REF! | N31: ='3-4应收票据'!P32 -> #REF!
A32: ='3-4应收票据'!A33 -> #REF!

Sheet 3-6应收款项融资
A1: 返回索引目录
A2: ="应收款项融资评估"&#REF! -> #REF!
A4: ='3-4应收票据'!A4:S4 -> #REF!
B5: =#REF!&#REF!&#REF!&#REF!&#REF!&#REF! -> #REF!
A6: ='3-4应收票据'!A6 -> #REF!
A7: 序号 | B7: 融资单位名称 | C7: 融资合同号 | D7: 融资内容 | E7: 合同日期 | F7: 应收款项结算对方名称 | G7: 业务内容 | H7: 发生日期 | I7: 初始计量 | J7: 账面价值 | K7: 评估价值 | L7: 增减值 | M7: 增值率% | N7: 备注 | O7: 核算单位
A8: 1 | E8: 43800 | H8: 43800 | K8: =J8 -> 0 | L8: =IF(J8=0,"",K8-J8) | M8: =IF(J8=0,"",L8/(J8)*100)
L9: =IF(J9=0,"",K9-J9) | M9: =IF(J9=0,"",L9/(J9)*100)
L10: =IF(J10=0,"",K10-J10) | M10: =IF(J10=0,"",L10/(J10)*100)
L11: =IF(J11=0,"",K11-J11) | M11: =IF(J11=0,"",L11/(J11)*100)
L12: =IF(J12=0,"",K12-J12) | M12: =IF(J12=0,"",L12/(J12)*100)
L13: =IF(J13=0,"",K13-J13) | M13: =IF(J13=0,"",L13/(J13)*100)
L14: =IF(J14=0,"",K14-J14) | M14: =IF(J14=0,"",L14/(J14)*100)
L15: =IF(J15=0,"",K15-J15) | M15: =IF(J15=0,"",L15/(J15)*100)
L16: =IF(J16=0,"",K16-J16) | M16: =IF(J16=0,"",L16/(J16)*100)
L17: =IF(J17=0,"",K17-J17) | M17: =IF(J17=0,"",L17/(J17)*100)
L18: =IF(J18=0,"",K18-J18) | M18: =IF(J18=0,"",L18/(J18)*100)
L19: =IF(J19=0,"",K19-J19) | M19: =IF(J19=0,"",L19/(J19)*100)
L20: =IF(J20=0,"",K20-J20) | M20: =IF(J20=0,"",L20/(J20)*100)
... L26: =IF(J26=0,"",K26-J26) | M26: =IF(J26=0,"",L26/(J26)*100)
A27: 合 计 | J27: =SUM(J8:J26) -> 0 | K27: =SUM(K8:K26) -> 0 | L27: =IF(J27=0,"",K27-J27) | M27: =IF(J27=0,"",L27/(J27)*100)
A28: 减：应收款项融资坏账准备
A29: 减：评估风险损失 | K29: =J28 -> 0
A30: 合 计 | J30: =J27-J28 -> 0 | K30: =K27-K29 -> 0 | L30: =IF(J30=0,"",K30-J30) | M30: =IF(J30=0,"",L30/(J30)*100)
A31: ='3-4应收票据'!A32 -> #REF! | K31: ='3-4应收票据'!P32 -> #REF!
A32: ='3-4应收票据'!A33 -> #REF!

Sheet 3-7预付账款
A1: 返回索引目录
A2: ="预付账款评估"&#REF! -> #REF!
A4: ='3-5应收账款'!A4:Q4 -> #REF!
B5: ='3-5应收账款'!B5 -> #REF!
A6: ='3-5应收账款'!A6 -> #REF! | L6: 放入备注中说明
A7: 序号 | B7: 收款单位名称（结算对象) | C7: 业务内容 | D7: 发生日期 | E7: 账龄 | F7: 账面价值 | G7: 评估价值 | H7: 增减值 | I7: 增值率% | J7: 备注 | K7: 核算单位 | L7: 最后一次变动日期 | M7: 是否为关联方 | N7: 是否仍有业务往来 | O7: 长期挂账原因 | P7: 对方单位是否破产/注销
A8: 1 | D8: 43800 | E8: =IF(D8=0,"",(IF(($B$5-D8)<366,"1年以内",IF(($B$5-D8)<731,"1-2年",IF(($B$5-D8)<1096,"2-3年",IF(($B$5-D8)<1461,"3-4年",IF(($B$5-D8)<1826,"4-5年","5年以上"))))))) -> #REF! | H8: =IF(F8=0,"",G8-F8) | I8: =IF(F8=0,"",H8/(F8)*100)
E9: =IF(D9=0,"",(IF(($B$5-D9)<366,"1年以内",IF(($B$5-D9)<731,"1-2年",IF(($B$5-D9)<1096,"2-3年",IF(($B$5-D9)<1461,"3-4年",IF(($B$5-D9)<1826,"4-5年","5年以上"))))))) | H9: =IF(F9=0,"",G9-F9) | I9: =IF(F9=0,"",H9/(F9)*100)
E10: =IF(D10=0,"",(IF(($B$5-D10)<366,"1年以内",IF(($B$5-D10)<731,"1-2年",IF(($B$5-D10)<1096,"2-3年",IF(($B$5-D10)<1461,"3-4年",IF(($B$5-D10)<1826,"4-5年","5年以上"))))))) | H10: =IF(F10=0,"",G10-F10) | I10: =IF(F10=0,"",H10/(F10)*100)
E11: =IF(D11=0,"",(IF(($B$5-D11)<366,"1年以内",IF(($B$5-D11)<731,"1-2年",IF(($B$5-D11)<1096,"2-3年",IF(($B$5-D11)<1461,"3-4年",IF(($B$5-D11)<1826,"4-5年","5年以上"))))))) | H11: =IF(F11=0,"",G11-F11) | I11: =IF(F11=0,"",H11/(F11)*100)
E12: =IF(D12=0,"",(IF(($B$5-D12)<366,"1年以内",IF(($B$5-D12)<731,"1-2年",IF(($B$5-D12)<1096,"2-3年",IF(($B$5-D12)<1461,"3-4年",IF(($B$5-D12)<1826,"4-5年","5年以上"))))))) | H12: =IF(F12=0,"",G12-F12) | I12: =IF(F12=0,"",H12/(F12)*100)
E13: =IF(D13=0,"",(IF(($B$5-D13)<366,"1年以内",IF(($B$5-D13)<731,"1-2年",IF(($B$5-D13)<1096,"2-3年",IF(($B$5-D13)<1461,"3-4年",IF(($B$5-D13)<1826,"4-5年","5年以上"))))))) | H13: =IF(F13=0,"",G13-F13) | I13: =IF(F13=0,"",H13/(F13)*100)
E14: =IF(D14=0,"",(IF(($B$5-D14)<366,"1年以内",IF(($B$5-D14)<731,"1-2年",IF(($B$5-D14)<1096,"2-3年",IF(($B$5-D14)<1461,"3-4年",IF(($B$5-D14)<1826,"4-5年","5年以上"))))))) | H14: =IF(F14=0,"",G14-F14) | I14: =IF(F14=0,"",H14/(F14)*100)
E15: =IF(D15=0,"",(IF(($B$5-D15)<366,"1年以内",IF(($B$5-D15)<731,"1-2年",IF(($B$5-D15)<1096,"2-3年",IF(($B$5-D15)<1461,"3-4年",IF(($B$5-D15)<1826,"4-5年","5年以上"))))))) | H15: =IF(F15=0,"",G15-F15) | I15: =IF(F15=0,"",H15/(F15)*100)
E16: =IF(D16=0,"",(IF(($B$5-D16)<366,"1年以内",IF(($B$5-D16)<731,"1-2年",IF(($B$5-D16)<1096,"2-3年",IF(($B$5-D16)<1461,"3-4年",IF(($B$5-D16)<1826,"4-5年","5年以上"))))))) | H16: =IF(F16=0,"",G16-F16) | I16: =IF(F16=0,"",H16/(F16)*100)
E17: =IF(D17=0,"",(IF(($B$5-D17)<366,"1年以内",IF(($B$5-D17)<731,"1-2年",IF(($B$5-D17)<1096,"2-3年",IF(($B$5-D17)<1461,"3-4年",IF(($B$5-D17)<1826,"4-5年","5年以上"))))))) | H17: =IF(F17=0,"",G17-F17) | I17: =IF(F17=0,"",H17/(F17)*100)
E18: =IF(D18=0,"",(IF(($B$5-D18)<366,"1年以内",IF(($B$5-D18)<731,"1-2年",IF(($B$5-D18)<1096,"2-3年",IF(($B$5-D18)<1461,"3-4年",IF(($B$5-D18)<1826,"4-5年","5年以上"))))))) | H18: =IF(F18=0,"",G18-F18) | I18: =IF(F18=0,"",H18/(F18)*100)
E19: =IF(D19=0,"",(IF(($B$5-D19)<366,"1年以内",IF(($B$5-D19)<731,"1-2年",IF(($B$5-D19)<1096,"2-3年",IF(($B$5-D19)<1461,"3-4年",IF(($B$5-D19)<1826,"4-5年","5年以上"))))))) | H19: =IF(F19=0,"",G19-F19) | I19: =IF(F19=0,"",H19/(F19)*100)
E20: =IF(D20=0,"",(IF(($B$5-D20)<366,"1年以内",IF(($B$5-D20)<731,"1-2年",IF(($B$5-D20)<1096,"2-3年",IF(($B$5-D20)<1461,"3-4年",IF(($B$5-D20)<1826,"4-5年","5年以上"))))))) | H20: =IF(F20=0,"",G20-F20) | I20: =IF(F20=0,"",H20/(F20)*100)
... E26: =IF(D26=0,"",(IF(($B$5-D26)<366,"1年以内",IF(($B$5-D26)<731,"1-2年",IF(($B$5-D26)<1096,"2-3年",IF(($B$5-D26)<1461,"3-4年",IF(($B$5-D26)<1826,"4-5年","5年以上"))))))) | H26: =IF(F26=0,"",G26-F26) | I26: =IF(F26=0,"",H26/(F26)*100)
A27: 合 计 | F27: =SUM(F8:F26) -> 0 | G27: =SUM(G8:G26) -> 0 | H27: =IF(F27=0,"",G27-F27) | I27: =IF(F27=0,"",H27/(F27)*100)
A28: 减：预付账款坏账准备
A29: 减：评估风险损失 | G29: =F28 -> 0
A30: 合 计 | F30: =F27-F28 -> 0 | G30: =G27-G29 -> 0 | H30: =IF(F30=0,"",G30-F30) | I30: =IF(F30=0,"",H30/(F30)*100)
A31: ='3-5应收账款'!A31 -> #REF! | G31: ='3-5应收账款'!N31 -> #REF!
A32: ='3-5应收账款'!A32 -> #REF!

Sheet 3-8其他应收款汇总
A1: 返回索引目录
A2: 其他应收款评估汇总表
A4: ='3-8-3其他应收款'!A4:Q4 -> #REF!
A6: ='3-8-3其他应收款'!A6 -> #REF!
A7: 编号 | B7: 科目名称 | C7: 账面价值 | D7: 评估价值 | E7: 增减值 | F7: 增值率%
A8: 3-8-1 | B8: 应收利息 | C8: ='3-8-1应收利息'!G31 -> 0 | D8: ='3-8-1应收利息'!H31 -> 0 | E8: =D8-C8 -> 0 | F8: =IF(C8=0,"",E8/C8*100)
A9: 3-9-2 | B9: 应收股利 | C9: ='3-8-2应收股利'!E31 -> 0 | D9: ='3-8-2应收股利'!F31 -> 0 | E9: =D9-C9 -> 0 | F9: =IF(C9=0,"",E9/C9*100)
A10: 3-9-3 | B10: 其他应收款 | C10: ='3-8-3其他应收款'!M26 -> 0 | D10: ='3-8-3其他应收款'!N26 -> 0 | E10: =D10-C10 -> 0 | F10: =IF(C10=0,"",E10/C10*100)
H13: 0
H14: 0
A22: 合计 | C22: =C8+C9+C10 -> 0 | D22: =SUM(D8:D10) -> 0 | E22: =D22-C22 -> 0 | F22: =IF(C22=0,"",E22/C22*100)
A23: 减：坏账准备 | C23: ='3-8-3其他应收款'!M27 -> 0
A24: 减：评估风险损失 | D24: ='3-8-3其他应收款'!N28 -> 0
A25: 合计 | C25: =C22-C23 -> 0 | D25: =D22-D24 -> 0 | E25: =D25-C25 -> 0 | F25: =IF(C25=0,"",E25/C25*100)

Sheet 3-8-1应收利息
A1: 返回索引目录
A2: ="应收利息评估"&#REF! -> #REF!
A4: ='3-7预付账款'!A4:J4 -> #REF!
A6: ='3-7预付账款'!A6 -> #REF!
A7: 序号 | B7: 欠款单位名称（结算对象) | C7: 发生日期 | D7: 本金 | E7: 利息所属期间 | F7: 利息率% | G7: 账面价值 | H7: 评估价值 | I7: 增减值 | J7: 增值率% | K7: 是否为关联方 | L7: 核算单位
A8: 1 | C8: 43830 | I8: =IF(G8=0,"",H8-G8) | J8: =IF(G8=0,"",I8/G8*100)
I9: =IF(G9=0,"",H9-G9) | J9: =IF(G9=0,"",I9/G9*100)
I10: =IF(G10=0,"",H10-G10) | J10: =IF(G10=0,"",I10/G10*100)
I11: =IF(G11=0,"",H11-G11) | J11: =IF(G11=0,"",I11/G11*100)
I12: =IF(G12=0,"",H12-G12) | J12: =IF(G12=0,"",I12/G12*100)
H13: 0 | I13: =IF(G13=0,"",H13-G13) | J13: =IF(G13=0,"",I13/G13*100)
H14: 0 | I14: =IF(G14=0,"",H14-G14) | J14: =IF(G14=0,"",I14/G14*100)
I15: =IF(G15=0,"",H15-G15) | J15: =IF(G15=0,"",I15/G15*100)
I16: =IF(G16=0,"",H16-G16) | J16: =IF(G16=0,"",I16/G16*100)
I17: =IF(G17=0,"",H17-G17) | J17: =IF(G17=0,"",I17/G17*100)
I18: =IF(G18=0,"",H18-G18) | J18: =IF(G18=0,"",I18/G18*100)
I19: =IF(G19=0,"",H19-G19) | J19: =IF(G19=0,"",I19/G19*100)
I20: =IF(G20=0,"",H20-G20) | J20: =IF(G20=0,"",I20/G20*100)
I21: =IF(G21=0,"",H21-G21) | J21: =IF(G21=0,"",I21/G21*100)
I22: =IF(G22=0,"",H22-G22) | J22: =IF(G22=0,"",I22/G22*100)
I23: =IF(G23=0,"",H23-G23) | J23: =IF(G23=0,"",I23/G23*100)
I24: =IF(G24=0,"",H24-G24) | J24: =IF(G24=0,"",I24/G24*100)
I25: =IF(G25=0,"",H25-G25) | J25: =IF(G25=0,"",I25/G25*100)
I26: =IF(G26=0,"",H26-G26) | J26: =IF(G26=0,"",I26/G26*100)
... I30: =IF(G30=0,"",H30-G30) | J30: =IF(G30=0,"",I30/G30*100)
A31: 合 计 | G31: =SUM(G8:G30) -> 0 | H31: =SUM(H8:H30) -> 0 | I31: =IF(G31=0,"",H31-G31) | J31: =IF(G31=0,"",I31/G31*100)
A32: ='3-7预付账款'!A31 -> #REF! | H32: ='3-7预付账款'!G31 -> #REF!
A33: ='3-7预付账款'!A32 -> #REF!

Sheet 3-8-2应收股利
A1: 返回索引目录
A2: ="应收股利（应收利润）评估"&#REF! -> #REF!
A4: ='3-8-1应收利息'!A4:K4 -> #REF!
A6: ='3-8-1应收利息'!A6 -> #REF!
A7: 序号 | B7: 户名（结算对象) | C7: 发生日期 | D7: 股利（利润）所属期间 | E7: 账面价值 | F7: 评估价值 | G7: 增减值 | H7: 增值率% | I7: 备注 | J7: 核算单位
A8: 1 | G8: =IF(E8=0,"",F8-E8) | H8: =IF(E8=0,"",G8/E8*100)
G9: =IF(E9=0,"",F9-E9) | H9: =IF(E9=0,"",G9/E9*100)
G10: =IF(E10=0,"",F10-E10) | H10: =IF(E10=0,"",G10/E10*100)
G11: =IF(E11=0,"",F11-E11) | H11: =IF(E11=0,"",G11/E11*100)
G12: =IF(E12=0,"",F12-E12) | H12: =IF(E12=0,"",G12/E12*100)
G13: =IF(E13=0,"",F13-E13) | H13: 0
G14: =IF(E14=0,"",F14-E14) | H14: 0
G15: =IF(E15=0,"",F15-E15) | H15: =IF(E15=0,"",G15/E15*100)
G16: =IF(E16=0,"",F16-E16) | H16: =IF(E16=0,"",G16/E16*100)
G17: =IF(E17=0,"",F17-E17) | H17: =IF(E17=0,"",G17/E17*100)
G18: =IF(E18=0,"",F18-E18) | H18: =IF(E18=0,"",G18/E18*100)
G19: =IF(E19=0,"",F19-E19) | H19: =IF(E19=0,"",G19/E19*100)
G20: =IF(E20=0,"",F20-E20) | H20: =IF(E20=0,"",G20/E20*100)
G21: =IF(E21=0,"",F21-E21) | H21: =IF(E21=0,"",G21/E21*100)
G22: =IF(E22=0,"",F22-E22) | H22: =IF(E22=0,"",G22/E22*100)
G23: =IF(E23=0,"",F23-E23) | H23: =IF(E23=0,"",G23/E23*100)
G24: =IF(E24=0,"",F24-E24) | H24: =IF(E24=0,"",G24/E24*100)
G25: =IF(E25=0,"",F25-E25) | H25: =IF(E25=0,"",G25/E25*100)
G26: =IF(E26=0,"",F26-E26) | H26: =IF(E26=0,"",G26/E26*100)
... G30: =IF(E30=0,"",F30-E30) | H30: =IF(E30=0,"",G30/E30*100)
A31: 合 计 | E31: =SUM(E8:E30) -> 0 | F31: =SUM(F8:F30) -> 0 | G31: =IF(E31=0,"",F31-E31) | H31: =IF(E31=0,"",G31/E31*100)
A32: ='3-8-1应收利息'!A32 -> #REF! | F32: ='3-8-1应收利息'!H32 -> #REF!
A33: ='3-8-1应收利息'!A33 -> #REF!

Sheet 3-8-3其他应收款
A1: 返回索引目录
A2: ="其他应收款评估"&#REF! -> #REF!
A4: ='3-8-2应收股利'!A4:I4 -> #REF!
B5: ='3-5应收账款'!B5 -> #REF!
A6: ='3-8-2应收股利'!A6 -> #REF! | S6: 放入备注中说明
A7: 序号 | B7: 欠款单位（人）名称（结算对象) | C7: 业务内容 | D7: 发生日期 | E7: 账龄 | F7: 1年以内金额 | G7: 1~2年金额 | H7: 2~3年金额 | I7: 3~4年金额 | J7: 4~5年金额 | K7: 5年以上金额 | L7: 账龄总数与账面价值差异(应等于0) | M7: 账面价值 | N7: 评估价值 | O7: 增减值 | P7: 增值率% | Q7: 备注 | R7: 核算单位 | S7: 是否为关联方 | T7: 是否仍有业务往来 | U7: 长期挂账原因 | V7: 对方单位是否破产/注销
A8: 1 | D8: 43800 | E8: =IF(D8=0,"",(IF(($B$5-D8)<366,"1年以内",IF(($B$5-D8)<731,"1-2年",IF(($B$5-D8)<1096,"2-3年",IF(($B$5-D8)<1461,"3-4年",IF(($B$5-D8)<1826,"4-5年","5年以上"))))))) -> #REF! | L8: =SUM(F8:K8)-M8 -> 0 | O8: =IF(M8=0,"",N8-M8) | P8: =IF(M8=0,"",O8/(M8)*100)
E9: =IF(D9=0,"",(IF(($B$5-D9)<366,"1年以内",IF(($B$5-D9)<731,"1-2年",IF(($B$5-D9)<1096,"2-3年",IF(($B$5-D9)<1461,"3-4年",IF(($B$5-D9)<1826,"4-5年","5年以上"))))))) | L9: =SUM(F9:K9)-M9 -> 0 | O9: =IF(M9=0,"",N9-M9) | P9: =IF(M9=0,"",O9/(M9)*100)
E10: =IF(D10=0,"",(IF(($B$5-D10)<366,"1年以内",IF(($B$5-D10)<731,"1-2年",IF(($B$5-D10)<1096,"2-3年",IF(($B$5-D10)<1461,"3-4年",IF(($B$5-D10)<1826,"4-5年","5年以上"))))))) | L10: =SUM(F10:K10)-M10 -> 0 | O10: =IF(M10=0,"",N10-M10) | P10: =IF(M10=0,"",O10/(M10)*100)
E11: =IF(D11=0,"",(IF(($B$5-D11)<366,"1年以内",IF(($B$5-D11)<731,"1-2年",IF(($B$5-D11)<1096,"2-3年",IF(($B$5-D11)<1461,"3-4年",IF(($B$5-D11)<1826,"4-5年","5年以上"))))))) | L11: =SUM(F11:K11)-M11 -> 0 | O11: =IF(M11=0,"",N11-M11) | P11: =IF(M11=0,"",O11/(M11)*100)
E12: =IF(D12=0,"",(IF(($B$5-D12)<366,"1年以内",IF(($B$5-D12)<731,"1-2年",IF(($B$5-D12)<1096,"2-3年",IF(($B$5-D12)<1461,"3-4年",IF(($B$5-D12)<1826,"4-5年","5年以上"))))))) | L12: =SUM(F12:K12)-M12 -> 0 | O12: =IF(M12=0,"",N12-M12) | P12: =IF(M12=0,"",O12/(M12)*100)
E13: =IF(D13=0,"",(IF(($B$5-D13)<366,"1年以内",IF(($B$5-D13)<731,"1-2年",IF(($B$5-D13)<1096,"2-3年",IF(($B$5-D13)<1461,"3-4年",IF(($B$5-D13)<1826,"4-5年","5年以上"))))))) | L13: =SUM(F13:K13)-M13 -> 0 | O13: =IF(M13=0,"",N13-M13) | P13: =IF(M13=0,"",O13/(M13)*100)
E14: =IF(D14=0,"",(IF(($B$5-D14)<366,"1年以内",IF(($B$5-D14)<731,"1-2年",IF(($B$5-D14)<1096,"2-3年",IF(($B$5-D14)<1461,"3-4年",IF(($B$5-D14)<1826,"4-5年","5年以上"))))))) | L14: =SUM(F14:K14)-M14 -> 0 | O14: =IF(M14=0,"",N14-M14) | P14: =IF(M14=0,"",O14/(M14)*100)
E15: =IF(D15=0,"",(IF(($B$5-D15)<366,"1年以内",IF(($B$5-D15)<731,"1-2年",IF(($B$5-D15)<1096,"2-3年",IF(($B$5-D15)<1461,"3-4年",IF(($B$5-D15)<1826,"4-5年","5年以上"))))))) | L15: =SUM(F15:K15)-M15 -> 0 | O15: =IF(M15=0,"",N15-M15) | P15: =IF(M15=0,"",O15/(M15)*100)
E16: =IF(D16=0,"",(IF(($B$5-D16)<366,"1年以内",IF(($B$5-D16)<731,"1-2年",IF(($B$5-D16)<1096,"2-3年",IF(($B$5-D16)<1461,"3-4年",IF(($B$5-D16)<1826,"4-5年","5年以上"))))))) | L16: =SUM(F16:K16)-M16 -> 0 | O16: =IF(M16=0,"",N16-M16) | P16: =IF(M16=0,"",O16/(M16)*100)
E17: =IF(D17=0,"",(IF(($B$5-D17)<366,"1年以内",IF(($B$5-D17)<731,"1-2年",IF(($B$5-D17)<1096,"2-3年",IF(($B$5-D17)<1461,"3-4年",IF(($B$5-D17)<1826,"4-5年","5年以上"))))))) | L17: =SUM(F17:K17)-M17 -> 0 | O17: =IF(M17=0,"",N17-M17) | P17: =IF(M17=0,"",O17/(M17)*100)
E18: =IF(D18=0,"",(IF(($B$5-D18)<366,"1年以内",IF(($B$5-D18)<731,"1-2年",IF(($B$5-D18)<1096,"2-3年",IF(($B$5-D18)<1461,"3-4年",IF(($B$5-D18)<1826,"4-5年","5年以上"))))))) | L18: =SUM(F18:K18)-M18 -> 0 | O18: =IF(M18=0,"",N18-M18) | P18: =IF(M18=0,"",O18/(M18)*100)
E19: =IF(D19=0,"",(IF(($B$5-D19)<366,"1年以内",IF(($B$5-D19)<731,"1-2年",IF(($B$5-D19)<1096,"2-3年",IF(($B$5-D19)<1461,"3-4年",IF(($B$5-D19)<1826,"4-5年","5年以上"))))))) | L19: =SUM(F19:K19)-M19 -> 0 | O19: =IF(M19=0,"",N19-M19) | P19: =IF(M19=0,"",O19/(M19)*100)
E20: =IF(D20=0,"",(IF(($B$5-D20)<366,"1年以内",IF(($B$5-D20)<731,"1-2年",IF(($B$5-D20)<1096,"2-3年",IF(($B$5-D20)<1461,"3-4年",IF(($B$5-D20)<1826,"4-5年","5年以上"))))))) | L20: =SUM(F20:K20)-M20 -> 0 | O20: =IF(M20=0,"",N20-M20) | P20: =IF(M20=0,"",O20/(M20)*100)
... E25: =IF(D25=0,"",(IF(($B$5-D25)<366,"1年以内",IF(($B$5-D25)<731,"1-2年",IF(($B$5-D25)<1096,"2-3年",IF(($B$5-D25)<1461,"3-4年",IF(($B$5-D25)<1826,"4-5年","5年以上"))))))) | L25: =SUM(F25:K25)-M25 -> 0 | O25: =IF(M25=0,"",N25-M25) | P25: =IF(M25=0,"",O25/(M25)*100)
A26: 合 计 | M26: =SUM(M8:M25) -> 0 | N26: =SUM(N8:N25) -> 0 | O26: =IF(M26=0,"",N26-M26) | P26: =IF(M26=0,"",O26/(M26)*100)
A27: 减：其他应收款坏账准备
A28: 减：评估风险损失 | N28: =M27 -> 0
A29: 合 计 | M29: =M26-M27 -> 0 | N29: =N26-N28 -> 0 | O29: =IF(M29=0,"",N29-M29) | P29: =IF(M29=0,"",O29/(M29)*100)
A30: ='3-8-2应收股利'!A32 -> #REF! | N30: ='3-8-2应收股利'!F32 -> #REF!
A31: ='3-8-2应收股利'!A33 -> #REF!

Sheet 3-9-1材料采购（在途物资）
A1: 返回索引目录
A2: ="存货-材料采购（在途物资）评估"&#REF! -> #REF!
A4: =#REF! -> #REF!
A6: =#REF! -> #REF!
A7: 序号 | B7: 名称 | C7: 规格型号 | D7: 计量单位 | E7: 供货单位名称 | F7: 采购日期 | G7: 是否关联方 | H7: 账面价值 | K7: 评估价值 | N7: 增减值 | O7: 增值率% | P7: 备注 | Q7: 核算单位
H8: 数量 | I8: 单价 | J8: 金额 | K8: 实际数量 | L8: 评估单价 | M8: 金额
A9: 1 | F9: 2019/12 | N9: =IF(J9=0,"",M9-J9) | O9: =IF(J9=0,"",N9/(J9)*100)
N10: =IF(J10=0,"",M10-J10) | O10: =IF(J10=0,"",N10/(J10)*100)
N11: =IF(J11=0,"",M11-J11) | O11: =IF(J11=0,"",N11/(J11)*100)
N12: =IF(J12=0,"",M12-J12) | O12: =IF(J12=0,"",N12/(J12)*100)
H13: 0 | N13: =IF(J13=0,"",M13-J13) | O13: =IF(J13=0,"",N13/(J13)*100)
H14: 0 | N14: =IF(J14=0,"",M14-J14) | O14: =IF(J14=0,"",N14/(J14)*100)
N15: =IF(J15=0,"",M15-J15) | O15: =IF(J15=0,"",N15/(J15)*100)
N16: =IF(J16=0,"",M16-J16) | O16: =IF(J16=0,"",N16/(J16)*100)
N17: =IF(J17=0,"",M17-J17) | O17: =IF(J17=0,"",N17/(J17)*100)
N18: =IF(J18=0,"",M18-J18) | O18: =IF(J18=0,"",N18/(J18)*100)
N19: =IF(J19=0,"",M19-J19) | O19: =IF(J19=0,"",N19/(J19)*100)
N20: =IF(J20=0,"",M20-J20) | O20: =IF(J20=0,"",N20/(J20)*100)
N21: =IF(J21=0,"",M21-J21) | O21: =IF(J21=0,"",N21/(J21)*100)
N22: =IF(J22=0,"",M22-J22) | O22: =IF(J22=0,"",N22/(J22)*100)
N23: =IF(J23=0,"",M23-J23) | O23: =IF(J23=0,"",N23/(J23)*100)
N24: =IF(J24=0,"",M24-J24) | O24: =IF(J24=0,"",N24/(J24)*100)
N25: =IF(J25=0,"",M25-J25) | O25: =IF(J25=0,"",N25/(J25)*100)
N26: =IF(J26=0,"",M26-J26) | O26: =IF(J26=0,"",N26/(J26)*100)
... N29: =IF(J29=0,"",M29-J29) | O29: =IF(J29=0,"",N29/(J29)*100)
A30: 小计 | J30: =SUM(J9:J29) -> 0 | M30: =SUM(M9:M29) -> 0 | N30: =IF(J30=0,"",M30-J30) | O30: =IF(J30=0,"",N30/(J30)*100)
A31: 减：跌价准备
A32: 合 计 | J32: =J30-J31 -> 0 | M32: =M30 -> 0 | N32: =IF(J32=0,"",M32-J32) | O32: =IF(J32=0,"",N32/(J32)*100)
A33: ='3-8-3其他应收款'!A30 -> #REF! | L33: ='3-8-3其他应收款'!N30 -> #REF!
A34: ='3-8-3其他应收款'!A31 -> #REF!

Sheet 标的资产明细表
A1: 标的资产明细表
A2: 序号 | B2: 名称 | C2: 计量单位 | D2: 评估数量 | E2: 实物存放地点 | F2: 实物保管人、联系电话
A3: 1 | B3: 离心压缩机本体零件,干气密封维修包,157648-704,索拉 | C3: 套 | D3: 1 | E3: 压缩机关键备件储备库 | F3: 强雪娟 18691852359
A4: 2 | B4: 气动执行机构零件,接线端子,DN 2P TN 255,RMG | C4: 个 | D4: 2 | E4: 靖边作业区库 | F4: 于德淼 15691910029
A5: 3 | B5: 离心压缩机辅助系统零件,喷嘴,L31810G04,GE | C5: 个 | D5: 10 | E5: 压缩机关键备件储备库 | F5: 强雪娟 18691852359
A6: 4 | B6: 离心压缩机本体零件,推力轴承,210B528001,罗罗 | C6: 个 | D6: 2 | E6: 压缩机关键备件储备库 | F6: 强雪娟 18691852359
A7: 5 | B7: 离心压缩机本体零件,热力旁通阀,APSEM320-MA,GE | C7: 个 | D7: 1 | E7: 压缩机关键备件储备库 | F7: 强雪娟 18691852359
A8: 6 | B8: 气动执行机构零件,安全栅,LRTZ-50A | C8: 个 | D8: 3 | E8: 靖边作业区库 | F8: 于德淼 15691910029
A9: 7 | B9: 离心压缩机辅助系统零件,喷嘴,L31810G04,GE | C9: 个 | D9: 7 | E9: 压缩机关键备件储备库 | F9: 强雪娟 18691852359
A10: 8 | B10: 离心压缩机辅助系统零件,喷嘴,L31810G04,GE | C10: 个 | D10: 7 | E10: 压缩机关键备件储备库 | F10: 强雪娟 18691852359
A11: 9 | B11: 阀门本体零件,密封件,6-415-anr-20,丹尼尔 | C11: 个 | D11: 6 | E11: 高陵作业区库 | F11: 张彦宏18391305796
A12: 10 | B12: 离心压缩机本体零件,电机,R29-LW17395,罗罗 | C12: 台 | D12: 1 | E12: 压缩机关键备件储备库 | F12: 强雪娟 18691852359
A13: 11 | B13: 离心压缩机本体零件,电机,R29-LW17395,罗罗 | C13: 台 | D13: 1 | E13: 压缩机关键备件储备库 | F13: 强雪娟 18691852359
A14: 12 | B14: 离心压缩机本体零件,运算器&编程器,IQQ010080199,GE | C14: 个 | D14: 1 | E14: 压缩机关键备件储备库 | F14: 强雪娟 18691852359
... A2506: 2506 | B2506: 防爆电动球阀 PN100 DN200 | C2506: 个 | D2506: 1 | E2506: 晋中作业区 | F2506: 逯佳旺13546557520

Sheet 3-9-3在库周转材料
A1: 返回索引目录
A2: ="存货-在库周转材料评估"&#REF! -> #REF!
A4: =标的资产明细表!#REF! -> #REF!
B5: =标的资产明细表!#REF! -> #REF!
A6: =标的资产明细表!#REF! -> #REF!
A7: 序号 | B7: 名称 | C7: 规格型号 | D7: 计量单位 | E7: 存放地点 | F7: 最后一次购进日期 | G7: 库龄 | H7: 品质状况 | I7: 最后一次购进单价 | J7: 主要供应商是否关联方 | K7: 账面为负值的原因 | L7: 账面价值 | O7: 评估价值 | R7: 增减值 | S7: 增值率% | T7: 备注 | U7: 核算单位
L8: 数量 | M8: 单价 | N8: 金额 | O8: 实际数量 | P8: 评估单价 | Q8: 金额
A9: 1 | F9: 2019/11 | G9: =IF(F9=0,"",(IF(($B$5-F9)<366,"1年以内",IF(($B$5-F9)<731,"1-2年",IF(($B$5-F9)<1096,"2-3年",IF(($B$5-F9)<1461,"3-4年",IF(($B$5-F9)<1826,"4-5年","5年以上"))))))) -> #REF! | R9: =IF(N9=0,"",Q9-N9) | S9: =IF(N9=0,"",R9/(N9)*100)
G10: =IF(F10=0,"",(IF(($B$5-F10)<366,"1年以内",IF(($B$5-F10)<731,"1-2年",IF(($B$5-F10)<1096,"2-3年",IF(($B$5-F10)<1461,"3-4年",IF(($B$5-F10)<1826,"4-5年","5年以上"))))))) | R10: =IF(N10=0,"",Q10-N10) | S10: =IF(N10=0,"",R10/(N10)*100)
G11: =IF(F11=0,"",(IF(($B$5-F11)<366,"1年以内",IF(($B$5-F11)<731,"1-2年",IF(($B$5-F11)<1096,"2-3年",IF(($B$5-F11)<1461,"3-4年",IF(($B$5-F11)<1826,"4-5年","5年以上"))))))) | R11: =IF(N11=0,"",Q11-N11) | S11: =IF(N11=0,"",R11/(N11)*100)
G12: =IF(F12=0,"",(IF(($B$5-F12)<366,"1年以内",IF(($B$5-F12)<731,"1-2年",IF(($B$5-F12)<1096,"2-3年",IF(($B$5-F12)<1461,"3-4年",IF(($B$5-F12)<1826,"4-5年","5年以上"))))))) | R12: =IF(N12=0,"",Q12-N12) | S12: =IF(N12=0,"",R12/(N12)*100)
G13: =IF(F13=0,"",(IF(($B$5-F13)<366,"1年以内",IF(($B$5-F13)<731,"1-2年",IF(($B$5-F13)<1096,"2-3年",IF(($B$5-F13)<1461,"3-4年",IF(($B$5-F13)<1826,"4-5年","5年以上"))))))) | R13: =IF(N13=0,"",Q13-N13) | S13: =IF(N13=0,"",R13/(N13)*100)
G14: =IF(F14=0,"",(IF(($B$5-F14)<366,"1年以内",IF(($B$5-F14)<731,"1-2年",IF(($B$5-F14)<1096,"2-3年",IF(($B$5-F14)<1461,"3-4年",IF(($B$5-F14)<1826,"4-5年","5年以上"))))))) | R14: =IF(N14=0,"",Q14-N14) | S14: =IF(N14=0,"",R14/(N14)*100)
G15: =IF(F15=0,"",(IF(($B$5-F15)<366,"1年以内",IF(($B$5-F15)<731,"1-2年",IF(($B$5-F15)<1096,"2-3年",IF(($B$5-F15)<1461,"3-4年",IF(($B$5-F15)<1826,"4-5年","5年以上"))))))) | R15: =IF(N15=0,"",Q15-N15) | S15: =IF(N15=0,"",R15/(N15)*100)
G16: =IF(F16=0,"",(IF(($B$5-F16)<366,"1年以内",IF(($B$5-F16)<731,"1-2年",IF(($B$5-F16)<1096,"2-3年",IF(($B$5-F16)<1461,"3-4年",IF(($B$5-F16)<1826,"4-5年","5年以上"))))))) | R16: =IF(N16=0,"",Q16-N16) | S16: =IF(N16=0,"",R16/(N16)*100)
G17: =IF(F17=0,"",(IF(($B$5-F17)<366,"1年以内",IF(($B$5-F17)<731,"1-2年",IF(($B$5-F17)<1096,"2-3年",IF(($B$5-F17)<1461,"3-4年",IF(($B$5-F17)<1826,"4-5年","5年以上"))))))) | R17: =IF(N17=0,"",Q17-N17) | S17: =IF(N17=0,"",R17/(N17)*100)
G18: =IF(F18=0,"",(IF(($B$5-F18)<366,"1年以内",IF(($B$5-F18)<731,"1-2年",IF(($B$5-F18)<1096,"2-3年",IF(($B$5-F18)<1461,"3-4年",IF(($B$5-F18)<1826,"4-5年","5年以上"))))))) | R18: =IF(N18=0,"",Q18-N18) | S18: =IF(N18=0,"",R18/(N18)*100)
G19: =IF(F19=0,"",(IF(($B$5-F19)<366,"1年以内",IF(($B$5-F19)<731,"1-2年",IF(($B$5-F19)<1096,"2-3年",IF(($B$5-F19)<1461,"3-4年",IF(($B$5-F19)<1826,"4-5年","5年以上"))))))) | R19: =IF(N19=0,"",Q19-N19) | S19: =IF(N19=0,"",R19/(N19)*100)
G20: =IF(F20=0,"",(IF(($B$5-F20)<366,"1年以内",IF(($B$5-F20)<731,"1-2年",IF(($B$5-F20)<1096,"2-3年",IF(($B$5-F20)<1461,"3-4年",IF(($B$5-F20)<1826,"4-5年","5年以上"))))))) | R20: =IF(N20=0,"",Q20-N20) | S20: =IF(N20=0,"",R20/(N20)*100)
G21: =IF(F21=0,"",(IF(($B$5-F21)<366,"1年以内",IF(($B$5-F21)<731,"1-2年",IF(($B$5-F21)<1096,"2-3年",IF(($B$5-F21)<1461,"3-4年",IF(($B$5-F21)<1826,"4-5年","5年以上"))))))) | R21: =IF(N21=0,"",Q21-N21) | S21: =IF(N21=0,"",R21/(N21)*100)
... G30: =IF(F30=0,"",(IF(($B$5-F30)<366,"1年以内",IF(($B$5-F30)<731,"1-2年",IF(($B$5-F30)<1096,"2-3年",IF(($B$5-F30)<1461,"3-4年",IF(($B$5-F30)<1826,"4-5年","5年以上"))))))) | R30: =IF(N30=0,"",Q30-N30) | S30: =IF(N30=0,"",R30/(N30)*100)
A31: 小计 | N31: =SUM(N9:N30) -> 0 | Q31: =SUM(Q9:Q30) -> 0 | R31: =IF(N31=0,"",Q31-N31) | S31: =IF(N31=0,"",R31/(N31)*100)
A32: 减：跌价准备
A33: 合计 | N33: =N31-N32 -> 0 | Q33: =Q31 -> 0 | R33: =IF(N33=0,"",Q33-N33) | S33: =IF(N33=0,"",R33/(N33)*100)
A34: =标的资产明细表!#REF! -> #REF! | P34: =标的资产明细表!#REF! -> #REF!
A35: =标的资产明细表!#REF! -> #REF!

Sheet 3-9-4委托加工物资
A1: 返回索引目录
A2: ="存货-委托加工物资评估"&#REF! -> #REF!
A4: ='3-9-3在库周转材料'!A4:T4 -> #REF!
B5: ='3-9-3在库周转材料'!B5 -> #REF!
A6: ='3-9-3在库周转材料'!A6 -> #REF!
A7: 序号 | B7: 名称 | C7: 规格型号 | D7: 加工单位名称 | E7: 计量单位 | F7: 委托加工日期 | G7: 发出时间间隔 | H7: 委托加工合同号 | I7: 委托加工费金额 | J7: 发出材料成本 | K7: 收回材料成本 | L7: 未收回原因 | M7: 账面价值 | P7: 评估价值 | S7: 增减值 | T7: 增值率% | U7: 备注 | V7: 核算单位
M8: 数量 | N8: 单价 | O8: 金额 | P8: 实际数量 | Q8: 评估单价 | R8: 金额
A9: 1 | F9: 43800 | G9: =IF(F9=0,"",(IF(($B$5-F9)<366,"1年以内",IF(($B$5-F9)<731,"1-2年",IF(($B$5-F9)<1096,"2-3年",IF(($B$5-F9)<1461,"3-4年",IF(($B$5-F9)<1826,"4-5年","5年以上"))))))) -> #REF! | S9: =IF(O9=0,"",R9-O9) | T9: =IF(O9=0,"",S9/(O9)*100)
G10: =IF(F10=0,"",(IF(($B$5-F10)<366,"1年以内",IF(($B$5-F10)<731,"1-2年",IF(($B$5-F10)<1096,"2-3年",IF(($B$5-F10)<1461,"3-4年",IF(($B$5-F10)<1826,"4-5年","5年以上"))))))) | S10: =IF(O10=0,"",R10-O10) | T10: =IF(O10=0,"",S10/(O10)*100)
G11: =IF(F11=0,"",(IF(($B$5-F11)<366,"1年以内",IF(($B$5-F11)<731,"1-2年",IF(($B$5-F11)<1096,"2-3年",IF(($B$5-F11)<1461,"3-4年",IF(($B$5-F11)<1826,"4-5年","5年以上"))))))) | S11: =IF(O11=0,"",R11-O11) | T11: =IF(O11=0,"",S11/(O11)*100)
G12: =IF(F12=0,"",(IF(($B$5-F12)<366,"1年以内",IF(($B$5-F12)<731,"1-2年",IF(($B$5-F12)<1096,"2-3年",IF(($B$5-F12)<1461,"3-4年",IF(($B$5-F12)<1826,"4-5年","5年以上"))))))) | S12: =IF(O12=0,"",R12-O12) | T12: =IF(O12=0,"",S12/(O12)*100)
G13: =IF(F13=0,"",(IF(($B$5-F13)<366,"1年以内",IF(($B$5-F13)<731,"1-2年",IF(($B$5-F13)<1096,"2-3年",IF(($B$5-F13)<1461,"3-4年",IF(($B$5-F13)<1826,"4-5年","5年以上"))))))) | H13: 0 | S13: =IF(O13=0,"",R13-O13) | T13: =IF(O13=0,"",S13/(O13)*100)
G14: =IF(F14=0,"",(IF(($B$5-F14)<366,"1年以内",IF(($B$5-F14)<731,"1-2年",IF(($B$5-F14)<1096,"2-3年",IF(($B$5-F14)<1461,"3-4年",IF(($B$5-F14)<1826,"4-5年","5年以上"))))))) | H14: 0 | S14: =IF(O14=0,"",R14-O14) | T14: =IF(O14=0,"",S14/(O14)*100)
G15: =IF(F15=0,"",(IF(($B$5-F15)<366,"1年以内",IF(($B$5-F15)<731,"1-2年",IF(($B$5-F15)<1096,"2-3年",IF(($B$5-F15)<1461,"3-4年",IF(($B$5-F15)<1826,"4-5年","5年以上"))))))) | S15: =IF(O15=0,"",R15-O15) | T15: =IF(O15=0,"",S15/(O15)*100)
G16: =IF(F16=0,"",(IF(($B$5-F16)<366,"1年以内",IF(($B$5-F16)<731,"1-2年",IF(($B$5-F16)<1096,"2-3年",IF(($B$5-F16)<1461,"3-4年",IF(($B$5-F16)<1826,"4-5年","5年以上"))))))) | S16: =IF(O16=0,"",R16-O16) | T16: =IF(O16=0,"",S16/(O16)*100)
G17: =IF(F17=0,"",(IF(($B$5-F17)<366,"1年以内",IF(($B$5-F17)<731,"1-2年",IF(($B$5-F17)<1096,"2-3年",IF(($B$5-F17)<1461,"3-4年",IF(($B$5-F17)<1826,"4-5年","5年以上"))))))) | S17: =IF(O17=0,"",R17-O17) | T17: =IF(O17=0,"",S17/(O17)*100)
G18: =IF(F18=0,"",(IF(($B$5-F18)<366,"1年以内",IF(($B$5-F18)<731,"1-2年",IF(($B$5-F18)<1096,"2-3年",IF(($B$5-F18)<1461,"3-4年",IF(($B$5-F18)<1826,"4-5年","5年以上"))))))) | S18: =IF(O18=0,"",R18-O18) | T18: =IF(O18=0,"",S18/(O18)*100)
G19: =IF(F19=0,"",(IF(($B$5-F19)<366,"1年以内",IF(($B$5-F19)<731,"1-2年",IF(($B$5-F19)<1096,"2-3年",IF(($B$5-F19)<1461,"3-4年",IF(($B$5-F19)<1826,"4-5年","5年以上"))))))) | S19: =IF(O19=0,"",R19-O19) | T19: =IF(O19=0,"",S19/(O19)*100)
G20: =IF(F20=0,"",(IF(($B$5-F20)<366,"1年以内",IF(($B$5-F20)<731,"1-2年",IF(($B$5-F20)<1096,"2-3年",IF(($B$5-F20)<1461,"3-4年",IF(($B$5-F20)<1826,"4-5年","5年以上"))))))) | S20: =IF(O20=0,"",R20-O20) | T20: =IF(O20=0,"",S20/(O20)*100)
G21: =IF(F21=0,"",(IF(($B$5-F21)<366,"1年以内",IF(($B$5-F21)<731,"1-2年",IF(($B$5-F21)<1096,"2-3年",IF(($B$5-F21)<1461,"3-4年",IF(($B$5-F21)<1826,"4-5年","5年以上"))))))) | S21: =IF(O21=0,"",R21-O21) | T21: =IF(O21=0,"",S21/(O21)*100)
G22: =IF(F22=0,"",(IF(($B$5-F22)<366,"1年以内",IF(($B$5-F22)<731,"1-2年",IF(($B$5-F22)<1096,"2-3年",IF(($B$5-F22)<1461,"3-4年",IF(($B$5-F22)<1826,"4-5年","5年以上"))))))) | S22: =IF(O22=0,"",R22-O22) | T22: =IF(O22=0,"",S22/(O22)*100)
G23: =IF(F23=0,"",(IF(($B$5-F23)<366,"1年以内",IF(($B$5-F23)<731,"1-2年",IF(($B$5-F23)<1096,"2-3年",IF(($B$5-F23)<1461,"3-4年",IF(($B$5-F23)<1826,"4-5年","5年以上"))))))) | S23: =IF(O23=0,"",R23-O23) | T23: =IF(O23=0,"",S23/(O23)*100)
G24: =IF(F24=0,"",(IF(($B$5-F24)<366,"1年以内",IF(($B$5-F24)<731,"1-2年",IF(($B$5-F24)<1096,"2-3年",IF(($B$5-F24)<1461,"3-4年",IF(($B$5-F24)<1826,"4-5年","5年以上"))))))) | S24: =IF(O24=0,"",R24-O24) | T24: =IF(O24=0,"",S24/(O24)*100)
G25: =IF(F25=0,"",(IF(($B$5-F25)<366,"1年以内",IF(($B$5-F25)<731,"1-2年",IF(($B$5-F25)<1096,"2-3年",IF(($B$5-F25)<1461,"3-4年",IF(($B$5-F25)<1826,"4-5年","5年以上"))))))) | S25: =IF(O25=0,"",R25-O25) | T25: =IF(O25=0,"",S25/(O25)*100)
G26: =IF(F26=0,"",(IF(($B$5-F26)<366,"1年以内",IF(($B$5-F26)<731,"1-2年",IF(($B$5-F26)<1096,"2-3年",IF(($B$5-F26)<1461,"3-4年",IF(($B$5-F26)<1826,"4-5年","5年以上"))))))) | S26: =IF(O26=0,"",R26-O26) | T26: =IF(O26=0,"",S26/(O26)*100)
... G29: =IF(F29=0,"",(IF(($B$5-F29)<366,"1年以内",IF(($B$5-F29)<731,"1-2年",IF(($B$5-F29)<1096,"2-3年",IF(($B$5-F29)<1461,"3-4年",IF(($B$5-F29)<1826,"4-5年","5年以上"))))))) | S29: =IF(O29=0,"",R29-O29) | T29: =IF(O29=0,"",S29/(O29)*100)
A30: 小计 | O30: =SUM(O9:O29) -> 0 | R30: =SUM(R9:R29) -> 0 | S30: =IF(O30=0,"",R30-O30) | T30: =IF(O30=0,"",S30/(O30)*100)
A31: 减：跌价准备
A32: 合计 | O32: =O30-O31 -> 0 | R32: =R30 -> 0 | S32: =IF(O32=0,"",R32-O32) | T32: =IF(O32=0,"",S32/(O32)*100)
A33: ='3-9-3在库周转材料'!A34 -> #REF! | P33: ='3-9-3在库周转材料'!P34 -> #REF!
A34: ='3-9-3在库周转材料'!A35 -> #REF!

Sheet 3-9-5产成品（库存商品）
A1: 返回索引目录
A2: ="存货-产成品（库存商品、开发产品、农产品）评估"&#REF! -> #REF!
A4: ='3-9-4委托加工物资'!A4:U4 -> #REF!
B5: =标的资产明细表!#REF! -> #REF!
A6: ='3-9-4委托加工物资'!A6 -> #REF!
A7: 序号 | B7: 名称 | C7: 规格型号 | D7: 存放地点 | E7: 计量单位 | F7: 最早一批入库日期 | G7: 库龄 | H7: 产品品质 | I7: 主要客户是否关联方 | J7: 基准日平均销售单价（含税） | K7: 市场销售状况 | L7: 订货合同号 | M7: 账面价值 | Q7: 评估价值 | V7: 增减值 | W7: 增值率% | X7: 备注 | Y7: 核算单位
M8: 数量 | N8: 外币单价 | O8: 人民币单价 | P8: 金额 | Q8: 实际数量 | R8: 外币单价 | S8: 人民币单价 | T8: 汇率 | U8: 金额
A9: 1 | F9: 43800 | G9: =IF(F9=0,"",(IF(($B$5-F9)<366,"1年以内",IF(($B$5-F9)<731,"1-2年",IF(($B$5-F9)<1096,"2-3年",IF(($B$5-F9)<1461,"3-4年",IF(($B$5-F9)<1826,"4-5年","5年以上"))))))) -> #REF! | V9: =IF(P9=0,"",U9-P9) | W9: =IF(P9=0,"",V9/(P9)*100)
G10: =IF(F10=0,"",(IF(($B$5-F10)<366,"1年以内",IF(($B$5-F10)<731,"1-2年",IF(($B$5-F10)<1096,"2-3年",IF(($B$5-F10)<1461,"3-4年",IF(($B$5-F10)<1826,"4-5年","5年以上"))))))) | V10: =IF(P10=0,"",U10-P10) | W10: =IF(P10=0,"",V10/(P10)*100)
G11: =IF(F11=0,"",(IF(($B$5-F11)<366,"1年以内",IF(($B$5-F11)<731,"1-2年",IF(($B$5-F11)<1096,"2-3年",IF(($B$5-F11)<1461,"3-4年",IF(($B$5-F11)<1826,"4-5年","5年以上"))))))) | V11: =IF(P11=0,"",U11-P11) | W11: =IF(P11=0,"",V11/(P11)*100)
G12: =IF(F12=0,"",(IF(($B$5-F12)<366,"1年以内",IF(($B$5-F12)<731,"1-2年",IF(($B$5-F12)<1096,"2-3年",IF(($B$5-F12)<1461,"3-4年",IF(($B$5-F12)<1826,"4-5年","5年以上"))))))) | V12: =IF(P12=0,"",U12-P12) | W12: =IF(P12=0,"",V12/(P12)*100)
G13: =IF(F13=0,"",(IF(($B$5-F13)<366,"1年以内",IF(($B$5-F13)<731,"1-2年",IF(($B$5-F13)<1096,"2-3年",IF(($B$5-F13)<1461,"3-4年",IF(($B$5-F13)<1826,"4-5年","5年以上"))))))) | V13: =IF(P13=0,"",U13-P13) | W13: =IF(P13=0,"",V13/(P13)*100)
G14: =IF(F14=0,"",(IF(($B$5-F14)<366,"1年以内",IF(($B$5-F14)<731,"1-2年",IF(($B$5-F14)<1096,"2-3年",IF(($B$5-F14)<1461,"3-4年",IF(($B$5-F14)<1826,"4-5年","5年以上"))))))) | V14: =IF(P14=0,"",U14-P14) | W14: =IF(P14=0,"",V14/(P14)*100)
G15: =IF(F15=0,"",(IF(($B$5-F15)<366,"1年以内",IF(($B$5-F15)<731,"1-2年",IF(($B$5-F15)<1096,"2-3年",IF(($B$5-F15)<1461,"3-4年",IF(($B$5-F15)<1826,"4-5年","5年以上"))))))) | V15: =IF(P15=0,"",U15-P15) | W15: =IF(P15=0,"",V15/(P15)*100)
G16: =IF(F16=0,"",(IF(($B$5-F16)<366,"1年以内",IF(($B$5-F16)<731,"1-2年",IF(($B$5-F16)<1096,"2-3年",IF(($B$5-F16)<1461,"3-4年",IF(($B$5-F16)<1826,"4-5年","5年以上"))))))) | V16: =IF(P16=0,"",U16-P16) | W16: =IF(P16=0,"",V16/(P16)*100)
G17: =IF(F17=0,"",(IF(($B$5-F17)<366,"1年以内",IF(($B$5-F17)<731,"1-2年",IF(($B$5-F17)<1096,"2-3年",IF(($B$5-F17)<1461,"3-4年",IF(($B$5-F17)<1826,"4-5年","5年以上"))))))) | V17: =IF(P17=0,"",U17-P17) | W17: =IF(P17=0,"",V17/(P17)*100)
G18: =IF(F18=0,"",(IF(($B$5-F18)<366,"1年以内",IF(($B$5-F18)<731,"1-2年",IF(($B$5-F18)<1096,"2-3年",IF(($B$5-F18)<1461,"3-4年",IF(($B$5-F18)<1826,"4-5年","5年以上"))))))) | V18: =IF(P18=0,"",U18-P18) | W18: =IF(P18=0,"",V18/(P18)*100)
G19: =IF(F19=0,"",(IF(($B$5-F19)<366,"1年以内",IF(($B$5-F19)<731,"1-2年",IF(($B$5-F19)<1096,"2-3年",IF(($B$5-F19)<1461,"3-4年",IF(($B$5-F19)<1826,"4-5年","5年以上"))))))) | V19: =IF(P19=0,"",U19-P19) | W19: =IF(P19=0,"",V19/(P19)*100)
G20: =IF(F20=0,"",(IF(($B$5-F20)<366,"1年以内",IF(($B$5-F20)<731,"1-2年",IF(($B$5-F20)<1096,"2-3年",IF(($B$5-F20)<1461,"3-4年",IF(($B$5-F20)<1826,"4-5年","5年以上"))))))) | V20: =IF(P20=0,"",U20-P20) | W20: =IF(P20=0,"",V20/(P20)*100)
G21: =IF(F21=0,"",(IF(($B$5-F21)<366,"1年以内",IF(($B$5-F21)<731,"1-2年",IF(($B$5-F21)<1096,"2-3年",IF(($B$5-F21)<1461,"3-4年",IF(($B$5-F21)<1826,"4-5年","5年以上"))))))) | V21: =IF(P21=0,"",U21-P21) | W21: =IF(P21=0,"",V21/(P21)*100)
... G29: =IF(F29=0,"",(IF(($B$5-F29)<366,"1年以内",IF(($B$5-F29)<731,"1-2年",IF(($B$5-F29)<1096,"2-3年",IF(($B$5-F29)<1461,"3-4年",IF(($B$5-F29)<1826,"4-5年","5年以上"))))))) | V29: =IF(P29=0,"",U29-P29) | W29: =IF(P29=0,"",V29/(P29)*100)
A30: 小计 | P30: =SUM(P9:P29) -> 0 | U30: =SUM(U9:U29) -> 0 | V30: =IF(P30=0,"",U30-P30) | W30: =IF(P30=0,"",V30/(P30)*100)
A31: 减：跌价准备
A32: 合计 | P32: =P30-P31 -> 0 | U32: =U30 -> 0 | V32: =IF(P32=0,"",U32-P32) | W32: =IF(P32=0,"",V32/(P32)*100)
A33: ='3-9-4委托加工物资'!A33 -> #REF! | R33: ='3-9-4委托加工物资'!P33 -> #REF!
A34: ='3-9-4委托加工物资'!A34 -> #REF!

Sheet 3-9-6在产品（自制半成品）
A1: 返回索引目录
A2: ="存货-在产品（自制半成品）评估"&#REF! -> #REF!
A4: ='3-9-5产成品（库存商品）'!A4:X4 -> #REF!
B5: =标的资产明细表!#REF! -> #REF!
A6: ='3-9-5产成品（库存商品）'!A6 -> #REF!
A7: 序号 | B7: 名称 | C7: 规格型号 | D7: 存放地点 | E7: 计量单位 | F7: 开始加工日期 | G7: 库龄 | H7: 品质状况 | I7: 基准日产成品平均销售单价（含税） | J7: 完工程度 | K7: 账面价值 | N7: 评估价值 | Q7: 增减值 | R7: 增值率% | S7: 备注 | T7: 核算单位
K8: 数量 | L8: 单价 | M8: 金额 | N8: 实际数量 | O8: 评估单价 | P8: 金额
A9: 1 | F9: 43374 | G9: =IF(F9=0,"",(IF(($B$5-F9)<366,"1年以内",IF(($B$5-F9)<731,"1-2年",IF(($B$5-F9)<1096,"2-3年",IF(($B$5-F9)<1461,"3-4年",IF(($B$5-F9)<1826,"4-5年","5年以上"))))))) -> #REF! | Q9: =IF(M9=0,"",P9-M9) | R9: =IF(M9=0,"",Q9/(M9)*100)
G10: =IF(F10=0,"",(IF(($B$5-F10)<366,"1年以内",IF(($B$5-F10)<731,"1-2年",IF(($B$5-F10)<1096,"2-3年",IF(($B$5-F10)<1461,"3-4年",IF(($B$5-F10)<1826,"4-5年","5年以上"))))))) | Q10: =IF(M10=0,"",P10-M10) | R10: =IF(M10=0,"",Q10/(M10)*100)
G11: =IF(F11=0,"",(IF(($B$5-F11)<366,"1年以内",IF(($B$5-F11)<731,"1-2年",IF(($B$5-F11)<1096,"2-3年",IF(($B$5-F11)<1461,"3-4年",IF(($B$5-F11)<1826,"4-5年","5年以上"))))))) | Q11: =IF(M11=0,"",P11-M11) | R11: =IF(M11=0,"",Q11/(M11)*100)
G12: =IF(F12=0,"",(IF(($B$5-F12)<366,"1年以内",IF(($B$5-F12)<731,"1-2年",IF(($B$5-F12)<1096,"2-3年",IF(($B$5-F12)<1461,"3-4年",IF(($B$5-F12)<1826,"4-5年","5年以上"))))))) | Q12: =IF(M12=0,"",P12-M12) | R12: =IF(M12=0,"",Q12/(M12)*100)
G13: =IF(F13=0,"",(IF(($B$5-F13)<366,"1年以内",IF(($B$5-F13)<731,"1-2年",IF(($B$5-F13)<1096,"2-3年",IF(($B$5-F13)<1461,"3-4年",IF(($B$5-F13)<1826,"4-5年","5年以上"))))))) | H13: 0 | Q13: =IF(M13=0,"",P13-M13) | R13: =IF(M13=0,"",Q13/(M13)*100)
G14: =IF(F14=0,"",(IF(($B$5-F14)<366,"1年以内",IF(($B$5-F14)<731,"1-2年",IF(($B$5-F14)<1096,"2-3年",IF(($B$5-F14)<1461,"3-4年",IF(($B$5-F14)<1826,"4-5年","5年以上"))))))) | H14: 0 | Q14: =IF(M14=0,"",P14-M14) | R14: =IF(M14=0,"",Q14/(M14)*100)
G15: =IF(F15=0,"",(IF(($B$5-F15)<366,"1年以内",IF(($B$5-F15)<731,"1-2年",IF(($B$5-F15)<1096,"2-3年",IF(($B$5-F15)<1461,"3-4年",IF(($B$5-F15)<1826,"4-5年","5年以上"))))))) | Q15: =IF(M15=0,"",P15-M15) | R15: =IF(M15=0,"",Q15/(M15)*100)
G16: =IF(F16=0,"",(IF(($B$5-F16)<366,"1年以内",IF(($B$5-F16)<731,"1-2年",IF(($B$5-F16)<1096,"2-3年",IF(($B$5-F16)<1461,"3-4年",IF(($B$5-F16)<1826,"4-5年","5年以上"))))))) | Q16: =IF(M16=0,"",P16-M16) | R16: =IF(M16=0,"",Q16/(M16)*100)
G17: =IF(F17=0,"",(IF(($B$5-F17)<366,"1年以内",IF(($B$5-F17)<731,"1-2年",IF(($B$5-F17)<1096,"2-3年",IF(($B$5-F17)<1461,"3-4年",IF(($B$5-F17)<1826,"4-5年","5年以上"))))))) | Q17: =IF(M17=0,"",P17-M17) | R17: =IF(M17=0,"",Q17/(M17)*100)
G18: =IF(F18=0,"",(IF(($B$5-F18)<366,"1年以内",IF(($B$5-F18)<731,"1-2年",IF(($B$5-F18)<1096,"2-3年",IF(($B$5-F18)<1461,"3-4年",IF(($B$5-F18)<1826,"4-5年","5年以上"))))))) | Q18: =IF(M18=0,"",P18-M18) | R18: =IF(M18=0,"",Q18/(M18)*100)
G19: =IF(F19=0,"",(IF(($B$5-F19)<366,"1年以内",IF(($B$5-F19)<731,"1-2年",IF(($B$5-F19)<1096,"2-3年",IF(($B$5-F19)<1461,"3-4年",IF(($B$5-F19)<1826,"4-5年","5年以上"))))))) | Q19: =IF(M19=0,"",P19-M19) | R19: =IF(M19=0,"",Q19/(M19)*100)
G20: =IF(F20=0,"",(IF(($B$5-F20)<366,"1年以内",IF(($B$5-F20)<731,"1-2年",IF(($B$5-F20)<1096,"2-3年",IF(($B$5-F20)<1461,"3-4年",IF(($B$5-F20)<1826,"4-5年","5年以上"))))))) | Q20: =IF(M20=0,"",P20-M20) | R20: =IF(M20=0,"",Q20/(M20)*100)
G21: =IF(F21=0,"",(IF(($B$5-F21)<366,"1年以内",IF(($B$5-F21)<731,"1-2年",IF(($B$5-F21)<1096,"2-3年",IF(($B$5-F21)<1461,"3-4年",IF(($B$5-F21)<1826,"4-5年","5年以上"))))))) | Q21: =IF(M21=0,"",P21-M21) | R21: =IF(M21=0,"",Q21/(M21)*100)
G22: =IF(F22=0,"",(IF(($B$5-F22)<366,"1年以内",IF(($B$5-F22)<731,"1-2年",IF(($B$5-F22)<1096,"2-3年",IF(($B$5-F22)<1461,"3-4年",IF(($B$5-F22)<1826,"4-5年","5年以上"))))))) | Q22: =IF(M22=0,"",P22-M22) | R22: =IF(M22=0,"",Q22/(M22)*100)
G23: =IF(F23=0,"",(IF(($B$5-F23)<366,"1年以内",IF(($B$5-F23)<731,"1-2年",IF(($B$5-F23)<1096,"2-3年",IF(($B$5-F23)<1461,"3-4年",IF(($B$5-F23)<1826,"4-5年","5年以上"))))))) | Q23: =IF(M23=0,"",P23-M23) | R23: =IF(M23=0,"",Q23/(M23)*100)
G24: =IF(F24=0,"",(IF(($B$5-F24)<366,"1年以内",IF(($B$5-F24)<731,"1-2年",IF(($B$5-F24)<1096,"2-3年",IF(($B$5-F24)<1461,"3-4年",IF(($B$5-F24)<1826,"4-5年","5年以上"))))))) | Q24: =IF(M24=0,"",P24-M24) | R24: =IF(M24=0,"",Q24/(M24)*100)
G25: =IF(F25=0,"",(IF(($B$5-F25)<366,"1年以内",IF(($B$5-F25)<731,"1-2年",IF(($B$5-F25)<1096,"2-3年",IF(($B$5-F25)<1461,"3-4年",IF(($B$5-F25)<1826,"4-5年","5年以上"))))))) | Q25: =IF(M25=0,"",P25-M25) | R25: =IF(M25=0,"",Q25/(M25)*100)
G26: =IF(F26=0,"",(IF(($B$5-F26)<366,"1年以内",IF(($B$5-F26)<731,"1-2年",IF(($B$5-F26)<1096,"2-3年",IF(($B$5-F26)<1461,"3-4年",IF(($B$5-F26)<1826,"4-5年","5年以上"))))))) | Q26: =IF(M26=0,"",P26-M26) | R26: =IF(M26=0,"",Q26/(M26)*100)
... G29: =IF(F29=0,"",(IF(($B$5-F29)<366,"1年以内",IF(($B$5-F29)<731,"1-2年",IF(($B$5-F29)<1096,"2-3年",IF(($B$5-F29)<1461,"3-4年",IF(($B$5-F29)<1826,"4-5年","5年以上"))))))) | Q29: =IF(M29=0,"",P29-M29) | R29: =IF(M29=0,"",Q29/(M29)*100)
A30: 小计 | M30: =SUM(M9:M29) -> 0 | P30: =SUM(P9:P29) -> 0 | Q30: =IF(M30=0,"",P30-M30) | R30: =IF(M30=0,"",Q30/(M30)*100)
A31: 减：跌价准备
A32: 合计 | M32: =M30-M31 -> 0 | P32: =P30 -> 0 | Q32: =IF(M32=0,"",P32-M32) | R32: =IF(M32=0,"",Q32/(M32)*100)
A33: ='3-9-5产成品（库存商品）'!A33 -> #REF! | O33: ='3-9-5产成品（库存商品）'!R33 -> #REF!
A34: ='3-9-5产成品（库存商品）'!A34 -> #REF!

Sheet 3-9-7发出商品
A1: 返回索引目录
A2: ="存货-发出商品评估"&#REF! -> #REF!
A4: ='3-9-6在产品（自制半成品）'!A4:S4 -> #REF!
A6: ='3-9-6在产品（自制半成品）'!A6 -> #REF!
A7: 序号 | B7: 名称 | C7: 规格型号 | D7: 对方单位名称 | E7: 计量单位 | F7: 存放地点 | G7: 发出日期 | H7: 品质是否正常 | I7: 订货合同号 | J7: 是否为关联交易 | K7: 市场销售状况 | L7: 基准日平均销售单价（含税） | M7: 账面价值 | P7: 评估价值 | S7: 增减值 | T7: 增值率% | U7: 备注 | V7: 核算单位
M8: 数量 | N8: 单价 | O8: 金额 | P8: 实际数量 | Q8: 评估单价 | R8: 金额
